Workbook

Sheet 教育プログラム集（高等専門学校による出前授業）
C2: Ｎｏ． | D2: 1 | E2: 2 | F2: 3 | G2: 4 | H2: 5 | I2: 6 | J2: 7 | K2: 8 | L2: 9 | M2: 10 | N2: 11 | O2: 12 | P2: 13 | Q2: 14 | R2: 15 | S2: 16 | T2: 17 | U2: 18 | V2: 19 | W2: 20 | X2: 21 | Y2: 22 | Z2: 23 | AA2: 24 | AB2: 25 | AC2: 26 | AD2: 27 | AE2: 28 | AF2: 29 | AG2: 30 | AH2: 31 | AI2: 32 | AJ2: 33 | AK2: 34 | AL2: 35 | AM2: 36 | AN2: 37 | AO2: 38 | AP2: 39 | AQ2: 40 | AR2: 41 | AS2: 42 | AT2: 43 | AU2: 44 | AV2: 45 | AW2: 46 | AX2: 47 | AY2: 48 | AZ2: 49 | BA2: 50 | BB2: 51 | BC2: 52 | BD2: 53 | BE2: 54 | BF2: 55 | BG2: 56 | BH2: 57 | BI2: 58 | BJ2: 59 | BK2: 60 | BL2: 61 | BM2: 62 | BN2: 63 | BO2: 64 | BP2: 65 | BQ2: 66 | BR2: 67 | BS2: 68 | BT2: 69 | BU2: 70 | BV2: 71 | BW2: 72 | BX2: 73 | BY2: 74 | BZ2: 75 | CA2: 76 | CB2: 77 | CC2: 78 | CD2: 79 | CE2: 80 | CF2: 81 | CG2: 82 | CH2: =CG2+1 -> 83 | CI2: =CH2+1 -> 84 | CJ2: =CI2+1 -> 85 | CK2: =CJ2+1 -> 86 | CL2: =CK2+1 -> 87 | CM2: =CL2+1 -> 88 | CN2: =CM2+1 -> 89 | CO2: =CN2+1 -> 90 | ... EQ2: =EP2+1 -> 144
C3: 高等専門学校名 | D3: 鳥羽商船高等専門学校 | E3: 鳥羽商船高等専門学校 | F3: 鳥羽商船高等専門学校 | G3: 鳥羽商船高等専門学校 | H3: 鳥羽商船高等専門学校 | I3: 鳥羽商船高等専門学校 | J3: 鳥羽商船高等専門学校 | K3: 鳥羽商船高等専門学校 | L3: 鳥羽商船高等専門学校 | M3: 鳥羽商船高等専門学校 | N3: 鳥羽商船高等専門学校 | O3: 鳥羽商船高等専門学校 | P3: 鳥羽商船高等専門学校 | Q3: 鳥羽商船高等専門学校 | R3: 鳥羽商船高等専門学校 | S3: 鳥羽商船高等専門学校 | T3: 鳥羽商船高等専門学校 | U3: 広島商船高等専門学校 | V3: 広島商船高等専門学校 | W3: 広島商船高等専門学校 | X3: 広島商船高等専門学校 | Y3: 広島商船高等専門学校 | Z3: 広島商船高等専門学校 | AA3: 広島商船高等専門学校 | AB3: 広島商船高等専門学校 | AC3: 広島商船高等専門学校 | AD3: 広島商船高等専門学校 | AE3: 広島商船高等専門学校 | AF3: 広島商船高等専門学校 | AG3: 広島商船高等専門学校 | AH3: 広島商船高等専門学校 | AI3: 広島商船高等専門学校 | AJ3: 広島商船高等専門学校 | AK3: 広島商船高等専門学校 | AL3: 広島商船高等専門学校 | AM3: 広島商船高等専門学校 | AN3: 広島商船高等専門学校 | AO3: 広島商船高等専門学校 | AP3: 広島商船高等専門学校 | AQ3: 広島商船高等専門学校 | AR3: 広島商船高等専門学校 | AS3: 広島商船高等専門学校 | AT3: 広島商船高等専門学校 | AU3: 広島商船高等専門学校 | AV3: 広島商船高等専門学校 | AW3: 広島商船高等専門学校 | AX3: 広島商船高等専門学校 | AY3: 広島商船高等専門学校 | AZ3: 広島商船高等専門学校 | BA3: 広島商船高等専門学校 | BB3: 広島商船高等専門学校 | BC3: 広島商船高等専門学校 | BD3: 広島商船高等専門学校 | BE3: 広島商船高等専門学校 | BF3: 広島商船高等専門学校 | BG3: 広島商船高等専門学校 | BH3: 広島商船高等専門学校 | BI3: 広島商船高等専門学校 | BJ3: 広島商船高等専門学校 | BK3: 広島商船高等専門学校 | BL3: 広島商船高等専門学校 | BM3: 広島商船高等専門学校 | BN3: 広島商船高等専門学校 | BO3: 広島商船高等専門学校 | BP3: 広島商船高等専門学校 | BQ3: 広島商船高等専門学校 | BR3: 広島商船高等専門学校 | BS3: 広島商船高等専門学校 | BT3: 広島商船高等専門学校 | BU3: 広島商船高等専門学校 | BV3: 広島商船高等専門学校 | BW3: 広島商船高等専門学校 | BX3: 広島商船高等専門学校 | BY3: 広島商船高等専門学校 | BZ3: 広島商船高等専門学校 | CA3: 広島商船高等専門学校 | CB3: 広島商船高等専門学校 | CC3: 広島商船高等専門学校 | CD3: 広島商船高等専門学校 | CE3: 広島商船高等専門学校 | CF3: 広島商船高等専門学校 | CG3: 佐世保工業高等専門学校 | CH3: 舞鶴工業高等専門学校 | CI3: 広島商船高等専門学校 | CJ3: 広島商船高等専門学校 | CK3: 広島商船高等専門学校 | CL3: 広島商船高等専門学校 | CM3: 広島商船高等専門学校 | CN3: 広島商船高等専門学校 | CO3: 広島商船高等専門学校 | CP3: 広島商船高等専門学校 | CQ3: 広島商船高等専門学校 | CR3: 広島商船高等専門学校 | CS3: 広島商船高等専門学校 | CT3: 広島商船高等専門学校 | CU3: 広島商船高等専門学校 | CV3: 広島商船高等専門学校 | CW3: 広島商船高等専門学校 | CX3: 広島商船高等専門学校 | CY3: 広島商船高等専門学校 | CZ3: 広島商船高等専門学校 | DA3: 広島商船高等専門学校 | DB3: 広島商船高等専門学校 | DC3: 広島商船高等専門学校 | DD3: 広島商船高等専門学校 | DE3: 広島商船高等専門学校 | DF3: 広島商船高等専門学校 | DG3: 広島商船高等専門学校 | DH3: 広島商船高等専門学校 | DI3: 広島商船高等専門学校 | DJ3: 広島商船高等専門学校 | DK3: 広島商船高等専門学校 | DL3: 広島商船高等専門学校 | DM3: 広島商船高等専門学校 | DN3: 広島商船高等専門学校 | DO3: 広島商船高等専門学校 | DP3: 広島商船高等専門学校 | DQ3: 広島商船高等専門学校 | DR3: 広島商船高等専門学校 | DS3: 広島商船高等専門学校 | DT3: 広島商船高等専門学校 | DU3: 広島商船高等専門学校 | DV3: 広島商船高等専門学校 | DW3: 広島商船高等専門学校 | DX3: 広島商船高等専門学校 | DY3: 広島商船高等専門学校 | DZ3: 広島商船高等専門学校 | EA3: 広島商船高等専門学校 | EB3: 広島商船高等専門学校 | EC3: 広島商船高等専門学校 | ED3: 広島商船高等専門学校 | EE3: 広島商船高等専門学校 | EF3: 広島商船高等専門学校 | EG3: 広島商船高等専門学校 | EH3: 広島商船高等専門学校 | EI3: 広島商船高等専門学校 | EJ3: 広島商船高等専門学校 | EK3: 広島商船高等専門学校 | EL3: 広島商船高等専門学校 | EM3: 広島商船高等専門学校 | EN3: 広島商船高等専門学校 | EO3: 広島商船高等専門学校 | EP3: 広島商船高等専門学校 | EQ3: 広島商船高等専門学校
C4: 所在地 | D4: 三重県 | E4: 三重県 | F4: 三重県 | G4: 三重県 | H4: 三重県 | I4: 三重県 | J4: 三重県 | K4: 三重県 | L4: 三重県 | M4: 三重県 | N4: 三重県 | O4: 三重県 | P4: 三重県 | Q4: 三重県 | R4: 三重県 | S4: 三重県 | T4: 三重県 | U4: 広島県 | V4: 広島県 | W4: 広島県 | X4: 広島県 | Y4: 広島県 | Z4: 広島県 | AA4: 広島県 | AB4: 広島県 | AC4: 広島県 | AD4: 広島県 | AE4: 広島県 | AF4: 広島県 | AG4: 広島県 | AH4: 広島県 | AI4: 広島県 | AJ4: 広島県 | AK4: 広島県 | AL4: 広島県 | AM4: 広島県 | AN4: 広島県 | AO4: 広島県 | AP4: 広島県 | AQ4: 広島県 | AR4: 広島県 | AS4: 広島県 | AT4: 広島県 | AU4: 広島県 | AV4: 広島県 | AW4: 広島県 | AX4: 広島県 | AY4: 広島県 | AZ4: 広島県 | BA4: 広島県 | BB4: 広島県 | BC4: 広島県 | BD4: 広島県 | BE4: 広島県 | BF4: 広島県 | BG4: 広島県 | BH4: 広島県 | BI4: 広島県 | BJ4: 広島県 | BK4: 広島県 | BL4: 広島県 | BM4: 広島県 | BN4: 広島県 | BO4: 広島県 | BP4: 広島県 | BQ4: 広島県 | BR4: 広島県 | BS4: 広島県 | BT4: 広島県 | BU4: 広島県 | BV4: 広島県 | BW4: 広島県 | BX4: 広島県 | BY4: 広島県 | BZ4: 広島県 | CA4: 広島県 | CB4: 広島県 | CC4: 広島県 | CD4: 広島県 | CE4: 広島県 | CF4: 広島県 | CG4: 長崎県 | CH4: 京都府 | CI4: 広島県 | CJ4: 広島県 | CK4: 広島県 | CL4: 広島県 | CM4: 広島県 | CN4: 広島県 | CO4: 広島県 | CP4: 広島県 | CQ4: 広島県 | CR4: 広島県 | CS4: 広島県 | CT4: 広島県 | CU4: 広島県 | CV4: 広島県 | CW4: 広島県 | CX4: 広島県 | CY4: 広島県 | CZ4: 広島県 | DA4: 広島県 | DB4: 広島県 | DC4: 広島県 | DD4: 広島県 | DE4: 広島県 | DF4: 広島県 | DG4: 広島県 | DH4: 広島県 | DI4: 広島県 | DJ4: 広島県 | DK4: 広島県 | DL4: 広島県 | DM4: 広島県 | DN4: 広島県 | DO4: 広島県 | DP4: 広島県 | DQ4: 広島県 | DR4: 広島県 | DS4: 広島県 | DT4: 広島県 | DU4: 広島県 | DV4: 広島県 | DW4: 広島県 | DX4: 広島県 | DY4: 広島県 | DZ4: 広島県 | EA4: 広島県 | EB4: 広島県 | EC4: 広島県 | ED4: 広島県 | EE4: 広島県 | EF4: 広島県 | EG4: 広島県 | EH4: 広島県 | EI4: 広島県 | EJ4: 広島県 | EK4: 広島県 | EL4: 広島県 | EM4: 広島県 | EN4: 広島県 | EO4: 広島県 | EP4: 広島県 | EQ4: 広島県
C5: 都道府県コード | D5: =VLOOKUP(D4,master!$A$1:$B$47,2,FALSE) -> 24 | E5: =VLOOKUP(E4,master!$A$1:$B$47,2,FALSE) -> 24 | F5: =VLOOKUP(F4,master!$A$1:$B$47,2,FALSE) -> 24 | G5: =VLOOKUP(G4,master!$A$1:$B$47,2,FALSE) -> 24 | H5: =VLOOKUP(H4,master!$A$1:$B$47,2,FALSE) -> 24 | I5: =VLOOKUP(I4,master!$A$1:$B$47,2,FALSE) -> 24 | J5: =VLOOKUP(J4,master!$A$1:$B$47,2,FALSE) -> 24 | K5: =VLOOKUP(K4,master!$A$1:$B$47,2,FALSE) -> 24 | ... EQ5: =VLOOKUP(EQ4,master!$A$1:$B$47,2,FALSE) -> 34
C6: 担当部署 | D6: 総務課 企画・地域連携係 | E6: 総務課 企画・地域連携係 | F6: 総務課 企画・地域連携係 | G6: 総務課 企画・地域連携係 | H6: 総務課 企画・地域連携係 | I6: 総務課 企画・地域連携係 | J6: 総務課 企画・地域連携係 | K6: 総務課 企画・地域連携係 | L6: 総務課 企画・地域連携係 | M6: 総務課 企画・地域連携係 | N6: 総務課 企画・地域連携係 | O6: 総務課 企画・地域連携係 | P6: 総務課 企画・地域連携係 | Q6: 総務課 企画・地域連携係 | R6: 総務課 企画・地域連携係 | S6: 総務課 企画・地域連携係 | T6: 総務課 企画・地域連携係 | U6: 学生課教務係 | V6: 学生課教務係 | W6: 学生課教務係 | X6: 学生課教務係 | Y6: 学生課教務係 | Z6: 学生課教務係 | AA6: 学生課教務係 | AB6: 学生課教務係 | AC6: 学生課教務係 | AD6: 学生課教務係 | AE6: 学生課教務係 | AF6: 学生課教務係 | AG6: 学生課教務係 | AH6: 学生課教務係 | AI6: 学生課教務係 | AJ6: 学生課教務係 | AK6: 学生課教務係 | AL6: 学生課教務係 | AM6: 学生課教務係 | AN6: 学生課教務係 | AO6: 学生課教務係 | AP6: 学生課教務係 | AQ6: 学生課教務係 | AR6: 学生課教務係 | AS6: 学生課教務係 | AT6: 学生課教務係 | AU6: 学生課教務係 | AV6: 学生課教務係 | AW6: 学生課教務係 | AX6: 学生課教務係 | AY6: 学生課教務係 | AZ6: 学生課教務係 | BA6: 学生課教務係 | BB6: 学生課教務係 | BC6: 学生課教務係 | BD6: 学生課教務係 | BE6: 学生課教務係 | BF6: 学生課教務係 | BG6: 学生課教務係 | BH6: 学生課教務係 | BI6: 学生課教務係 | BJ6: 学生課教務係 | BK6: 学生課教務係 | BL6: 学生課教務係 | BM6: 学生課教務係 | BN6: 学生課教務係 | BO6: 学生課教務係 | BP6: 学生課教務係 | BQ6: 学生課教務係 | BR6: 学生課教務係 | BS6: 学生課教務係 | BT6: 学生課教務係 | BU6: 学生課教務係 | BV6: 学生課教務係 | BW6: 学生課教務係 | BX6: 学生課教務係 | BY6: 学生課教務係 | BZ6: 学生課教務係 | CA6: 学生課教務係 | CB6: 学生課教務係 | CC6: 学生課教務係 | CD6: 学生課教務係 | CE6: 学生課教務係 | CF6: 学生課教務係 | CG6: 総務課企画係 | CH6: 総務課総務係 | CI6: 総務課 研究・地域連携室 | CJ6: 総務課 研究・地域連携室 | CK6: 総務課 研究・地域連携室 | CL6: 総務課 研究・地域連携室 | CM6: 総務課 研究・地域連携室 | CN6: 総務課 研究・地域連携室 | CO6: 総務課 研究・地域連携室 | CP6: 総務課 研究・地域連携室 | CQ6: 総務課 研究・地域連携室 | CR6: 総務課 研究・地域連携室 | CS6: 総務課 研究・地域連携室 | CT6: 総務課 研究・地域連携室 | CU6: 総務課 研究・地域連携室 | CV6: 総務課 研究・地域連携室 | CW6: 総務課 研究・地域連携室 | CX6: 総務課 研究・地域連携室 | CY6: 総務課 研究・地域連携室 | CZ6: 総務課 研究・地域連携室 | DA6: 総務課 研究・地域連携室 | DB6: 総務課 研究・地域連携室 | DC6: 総務課 研究・地域連携室 | DD6: 総務課 研究・地域連携室 | DE6: 総務課 研究・地域連携室 | DF6: 総務課 研究・地域連携室 | DG6: 総務課 研究・地域連携室 | DH6: 総務課 研究・地域連携室 | DI6: 総務課 研究・地域連携室 | DJ6: 総務課 研究・地域連携室 | DK6: 総務課 研究・地域連携室 | DL6: 総務課 研究・地域連携室 | DM6: 総務課 研究・地域連携室 | DN6: 総務課 研究・地域連携室 | DO6: 総務課 研究・地域連携室 | DP6: 総務課 研究・地域連携室 | DQ6: 総務課 研究・地域連携室 | DR6: 総務課 研究・地域連携室 | DS6: 総務課 研究・地域連携室 | DT6: 総務課 研究・地域連携室 | DU6: 総務課 研究・地域連携室 | DV6: 総務課 研究・地域連携室 | DW6: 総務課 研究・地域連携室 | DX6: 総務課 研究・地域連携室 | DY6: 総務課 研究・地域連携室 | DZ6: 総務課 研究・地域連携室 | EA6: 総務課 研究・地域連携室 | EB6: 総務課 研究・地域連携室 | EC6: 総務課 研究・地域連携室 | ED6: 総務課 研究・地域連携室 | EE6: 総務課 研究・地域連携室 | EF6: 総務課 研究・地域連携室 | EG6: 総務課 研究・地域連携室 | EH6: 総務課 研究・地域連携室 | EI6: 総務課 研究・地域連携室 | EJ6: 総務課 研究・地域連携室 | EK6: 総務課 研究・地域連携室 | EL6: 総務課 研究・地域連携室 | EM6: 総務課 研究・地域連携室 | EN6: 総務課 研究・地域連携室 | EO6: 総務課 研究・地域連携室 | EP6: 総務課 研究・地域連携室 | EQ6: 総務課 研究・地域連携室
C7: 電話番号 | D7: 0599-25-8402 | E7: 0599-25-8402 | F7: 0599-25-8402 | G7: 0599-25-8402 | H7: 0599-25-8402 | I7: 0599-25-8402 | J7: 0599-25-8402 | K7: 0599-25-8402 | L7: 0599-25-8402 | M7: 0599-25-8402 | N7: 0599-25-8402 | O7: 0599-25-8402 | P7: 0599-25-8402 | Q7: 0599-25-8402 | R7: 0599-25-8402 | S7: 0599-25-8402 | T7: 0599-25-8402 | U7: 0846-67-3022 | V7: 0846-67-3022 | W7: 0846-67-3022 | X7: 0846-67-3022 | Y7: 0846-67-3022 | Z7: 0846-67-3022 | AA7: 0846-67-3022 | AB7: 0846-67-3022 | AC7: 0846-67-3022 | AD7: 0846-67-3022 | AE7: 0846-67-3022 | AF7: 0846-67-3022 | AG7: 0846-67-3022 | AH7: 0846-67-3022 | AI7: 0846-67-3022 | AJ7: 0846-67-3022 | AK7: 0846-67-3022 | AL7: 0846-67-3022 | AM7: 0846-67-3022 | AN7: 0846-67-3022 | AO7: 0846-67-3022 | AP7: 0846-67-3022 | AQ7: 0846-67-3022 | AR7: 0846-67-3022 | AS7: 0846-67-3022 | AT7: 0846-67-3022 | AU7: 0846-67-3022 | AV7: 0846-67-3022 | AW7: 0846-67-3022 | AX7: 0846-67-3022 | AY7: 0846-67-3022 | AZ7: 0846-67-3022 | BA7: 0846-67-3022 | BB7: 0846-67-3022 | BC7: 0846-67-3022 | BD7: 0846-67-3022 | BE7: 0846-67-3022 | BF7: 0846-67-3022 | BG7: 0846-67-3022 | BH7: 0846-67-3022 | BI7: 0846-67-3022 | BJ7: 0846-67-3022 | BK7: 0846-67-3022 | BL7: 0846-67-3022 | BM7: 0846-67-3022 | BN7: 0846-67-3022 | BO7: 0846-67-3022 | BP7: 0846-67-3022 | BQ7: 0846-67-3022 | BR7: 0846-67-3022 | BS7: 0846-67-3022 | BT7: 0846-67-3022 | BU7: 0846-67-3022 | BV7: 0846-67-3022 | BW7: 0846-67-3022 | BX7: 0846-67-3022 | BY7: 0846-67-3022 | BZ7: 0846-67-3022 | CA7: 0846-67-3022 | CB7: 0846-67-3022 | CC7: 0846-67-3022 | CD7: 0846-67-3022 | CE7: 0846-67-3022 | CF7: 0846-67-3022 | CG7: 0956-34-8415 | CH7: 0773-62-8862 | CI7: 0846-67-3179 | CJ7: 0846-67-3179 | CK7: 0846-67-3179 | CL7: 0846-67-3179 | CM7: 0846-67-3179 | CN7: 0846-67-3179 | CO7: 0846-67-3179 | CP7: 0846-67-3179 | CQ7: 0846-67-3179 | CR7: 0846-67-3179 | CS7: 0846-67-3179 | CT7: 0846-67-3179 | CU7: 0846-67-3179 | CV7: 0846-67-3179 | CW7: 0846-67-3179 | CX7: 0846-67-3179 | CY7: 0846-67-3179 | CZ7: 0846-67-3179 | DA7: 0846-67-3179 | DB7: 0846-67-3179 | DC7: 0846-67-3179 | DD7: 0846-67-3179 | DE7: 0846-67-3179 | DF7: 0846-67-3179 | DG7: 0846-67-3179 | DH7: 0846-67-3179 | DI7: 0846-67-3179 | DJ7: 0846-67-3179 | DK7: 0846-67-3179 | DL7: 0846-67-3179 | DM7: 0846-67-3179 | DN7: 0846-67-3179 | DO7: 0846-67-3179 | DP7: 0846-67-3179 | DQ7: 0846-67-3179 | DR7: 0846-67-3179 | DS7: 0846-67-3179 | DT7: 0846-67-3179 | DU7: 0846-67-3179 | DV7: 0846-67-3179 | DW7: 0846-67-3179 | DX7: 0846-67-3179 | DY7: 0846-67-3179 | DZ7: 0846-67-3179 | EA7: 0846-67-3179 | EB7: 0846-67-3179 | EC7: 0846-67-3179 | ED7: 0846-67-3179 | EE7: 0846-67-3179 | EF7: 0846-67-3179 | EG7: 0846-67-3179 | EH7: 0846-67-3179 | EI7: 0846-67-3179 | EJ7: 0846-67-3179 | EK7: 0846-67-3179 | EL7: 0846-67-3179 | EM7: 0846-67-3179 | EN7: 0846-67-3179 | EO7: 0846-67-3179 | EP7: 0846-67-3179 | EQ7: 0846-67-3179
C8: ﾒｰﾙｱﾄﾞﾚｽ | D8: soumu-kikaku@toba-cmt.ac.jp | E8: soumu-kikaku@toba-IK8cmt.ac.jp | F8: soumu-kikaku@toba-cmt.ac.jp | G8: soumu-kikaku@toba-cmt.ac.jp | H8: soumu-kikaku@toba-IN8cmt.ac.jp | I8: soumu-kikaku@toba-cmt.ac.jp | J8: soumu-kikaku@toba-IP8cmt.ac.jp | K8: soumu-kikaku@toba-cmt.ac.jp | L8: soumu-kikaku@toba-cmt.ac.jp | M8: soumu-kikaku@toba-cmt.ac.jp | N8: soumu-kikaku@toba-cmt.ac.jp | O8: soumu-kikaku@toba-cmt.ac.jp | P8: soumu-kikaku@toba-cmt.ac.jp | Q8: soumu-kikaku@toba-cmt.ac.jp | R8: soumu-kikaku@toba-cmt.ac.jp | S8: soumu-kikaku@toba-cmt.ac.jp | T8: soumu-kikaku@toba-cmt.ac.jp | U8: kyoumu@hiroshima-cmt.ac.jp | V8: kyoumu@hiroshima-cmt.ac.jp | W8: kyoumu@hiroshima-cmt.ac.jp | X8: kyoumu@hiroshima-cmt.ac.jp | Y8: kyoumu@hiroshima-cmt.ac.jp | Z8: kyoumu@hiroshima-cmt.ac.jp | AA8: kyoumu@hiroshima-cmt.ac.jp | AB8: kyoumu@hiroshima-cmt.ac.jp | AC8: kyoumu@hiroshima-cmt.ac.jp | AD8: kyoumu@hiroshima-cmt.ac.jp | AE8: kyoumu@hiroshima-cmt.ac.jp | AF8: kyoumu@hiroshima-cmt.ac.jp | AG8: kyoumu@hiroshima-cmt.ac.jp | AH8: kyoumu@hiroshima-cmt.ac.jp | AI8: kyoumu@hiroshima-cmt.ac.jp | AJ8: kyoumu@hiroshima-cmt.ac.jp | AK8: kyoumu@hiroshima-cmt.ac.jp | AL8: kyoumu@hiroshima-cmt.ac.jp | AM8: kyoumu@hiroshima-cmt.ac.jp | AN8: kyoumu@hiroshima-cmt.ac.jp | AO8: kyoumu@hiroshima-cmt.ac.jp | AP8: kyoumu@hiroshima-cmt.ac.jp | AQ8: kyoumu@hiroshima-cmt.ac.jp | AR8: kyoumu@hiroshima-cmt.ac.jp | AS8: kyoumu@hiroshima-cmt.ac.jp | AT8: kyoumu@hiroshima-cmt.ac.jp | AU8: kyoumu@hiroshima-cmt.ac.jp | AV8: kyoumu@hiroshima-cmt.ac.jp | AW8: kyoumu@hiroshima-GW8cmt.ac.jp | AX8: kyoumu@hiroshima-cmt.ac.jp | AY8: kyoumu@hiroshima-GY8cmt.ac.jp | AZ8: kyoumu@hiroshima-cmt.ac.jp | BA8: kyoumu@hiroshima-cmt.ac.jp | BB8: kyoumu@hiroshima-cmt.ac.jp | BC8: kyoumu@hiroshima-HC8cmt.ac.jp | BD8: kyoumu@hiroshima-cmt.ac.jp | BE8: kyoumu@hiroshima-cmt.ac.jp | BF8: kyoumu@hiroshima-HF8cmt.ac.jp | BG8: kyoumu@hiroshima-cmt.ac.jp | BH8: kyoumu@hiroshima-cmt.ac.jp | BI8: kyoumu@hiroshima-cmt.ac.jp | BJ8: kyoumu@hiroshima-cmt.ac.jp | BK8: kyoumu@hiroshima-cmt.ac.jp | BL8: kyoumu@hiroshima-cmt.ac.jp | BM8: kyoumu@hiroshima-HM8cmt.ac.jp | BN8: kyoumu@hiroshima-cmt.ac.jp | BO8: kyoumu@hiroshima-HO8cmt.ac.jp | BP8: kyoumu@hiroshima-cmt.ac.jp | BQ8: kyoumu@hiroshima-HQ8cmt.ac.jp | BR8: kyoumu@hiroshima-cmt.ac.jp | BS8: kyoumu@hiroshima-cmt.ac.jp | BT8: kyoumu@hiroshima-HT8cmt.ac.jp | BU8: kyoumu@hiroshima-cmt.ac.jp | BV8: kyoumu@hiroshima-HV8cmt.ac.jp | BW8: kyoumu@hiroshima-cmt.ac.jp | BX8: kyoumu@hiroshima-HX8cmt.ac.jp | BY8: kyoumu@hiroshima-cmt.ac.jp | BZ8: kyoumu@hiroshima-HZ8cmt.ac.jp | CA8: kyoumu@hiroshima-cmt.ac.jp | CB8: kyoumu@hiroshima-cmt.ac.jp | CC8: kyoumu@hiroshima-IC8cmt.ac.jp | CD8: kyoumu@hiroshima-cmt.ac.jp | CE8: kyoumu@hiroshima-IE8cmt.ac.jp | CF8: kyoumu@hiroshima-cmt.ac.jp | CG8: kikaku@sasebo.ac.jp | CH8: soumu@maizuru-ct.ac.jp | CI8: koho@hiroshima-cmt.ac.jp | CJ8: koho@hiroshima-cmt.ac.jp | CK8: koho@hiroshima-cmt.ac.jp | CL8: koho@hiroshima-cmt.ac.jp | CM8: koho@hiroshima-cmt.ac.jp | CN8: koho@hiroshima-cmt.ac.jp | CO8: koho@hiroshima-cmt.ac.jp | CP8: koho@hiroshima-cmt.ac.jp | CQ8: koho@hiroshima-cmt.ac.jp | CR8: koho@hiroshima-cmt.ac.jp | CS8: koho@hiroshima-cmt.ac.jp | CT8: koho@hiroshima-cmt.ac.jp | CU8: koho@hiroshima-cmt.ac.jp | CV8: koho@hiroshima-cmt.ac.jp | CW8: koho@hiroshima-cmt.ac.jp | CX8: koho@hiroshima-cmt.ac.jp | CY8: koho@hiroshima-cmt.ac.jp | CZ8: koho@hiroshima-cmt.ac.jp | DA8: koho@hiroshima-cmt.ac.jp | DB8: koho@hiroshima-cmt.ac.jp | DC8: koho@hiroshima-cmt.ac.jp | DD8: koho@hiroshima-cmt.ac.jp | DE8: koho@hiroshima-cmt.ac.jp | DF8: koho@hiroshima-cmt.ac.jp | DG8: koho@hiroshima-cmt.ac.jp | DH8: koho@hiroshima-cmt.ac.jp | DI8: koho@hiroshima-cmt.ac.jp | DJ8: koho@hiroshima-cmt.ac.jp | DK8: koho@hiroshima-cmt.ac.jp | DL8: koho@hiroshima-cmt.ac.jp | DM8: koho@hiroshima-cmt.ac.jp | DN8: koho@hiroshima-cmt.ac.jp | DO8: koho@hiroshima-cmt.ac.jp | DP8: koho@hiroshima-cmt.ac.jp | DQ8: koho@hiroshima-cmt.ac.jp | DR8: koho@hiroshima-cmt.ac.jp | DS8: koho@hiroshima-cmt.ac.jp | DT8: koho@hiroshima-cmt.ac.jp | DU8: koho@hiroshima-cmt.ac.jp | DV8: koho@hiroshima-cmt.ac.jp | DW8: koho@hiroshima-cmt.ac.jp | DX8: koho@hiroshima-cmt.ac.jp | DY8: koho@hiroshima-cmt.ac.jp | DZ8: koho@hiroshima-cmt.ac.jp | EA8: koho@hiroshima-cmt.ac.jp | EB8: koho@hiroshima-cmt.ac.jp | EC8: koho@hiroshima-cmt.ac.jp | ED8: koho@hiroshima-cmt.ac.jp | EE8: koho@hiroshima-cmt.ac.jp | EF8: koho@hiroshima-cmt.ac.jp | EG8: koho@hiroshima-cmt.ac.jp | EH8: koho@hiroshima-cmt.ac.jp | EI8: koho@hiroshima-cmt.ac.jp | EJ8: koho@hiroshima-cmt.ac.jp | EK8: koho@hiroshima-cmt.ac.jp | EL8: koho@hiroshima-cmt.ac.jp | EM8: koho@hiroshima-cmt.ac.jp | EN8: koho@hiroshima-cmt.ac.jp | EO8: koho@hiroshima-cmt.ac.jp | EP8: koho@hiroshima-cmt.ac.jp | EQ8: koho@hiroshima-cmt.ac.jp
C9: 受付時間 | D9: 平日8：30～17：00 （12：00～12：45を除く） | E9: 平日8：30～17：00 （12：00～12：45を除く） | F9: 平日8：30～17：00 （12：00～12：45を除く） | G9: 平日8：30～17：00 （12：00～12：45を除く） | H9: 平日8：30～17：00 （12：00～12：45を除く） | I9: 平日8：30～17：00 （12：00～12：45を除く） | J9: 平日8：30～17：00 （12：00～12：45を除く） | K9: 平日8：30～17：00 （12：00～12：45を除く） | L9: 平日8：30～17：00 （12：00～12：45を除く） | M9: 平日8：30～17：00 （12：00～12：45を除く） | N9: 平日8：30～17：00 （12：00～12：45を除く） | O9: 平日8：30～17：00 （12：00～12：45を除く） | P9: 平日8：30～17：00 （12：00～12：45を除く） | Q9: 平日8：30～17：00 （12：00～12：45を除く） | R9: 平日8：30～17：00 （12：00～12：45を除く） | S9: 平日8：30～17：00 （12：00～12：45を除く） | T9: 平日8：30～17：00 （12：00～12：45を除く） | U9: 電話・メールでの応募のみ | V9: 電話・メールでの応募のみ | W9: 電話・メールでの応募のみ | X9: 電話・メールでの応募のみ | Y9: 電話・メールでの応募のみ | Z9: 電話・メールでの応募のみ | AA9: 電話・メールでの応募のみ | AB9: 電話・メールでの応募のみ | AC9: 電話・メールでの応募のみ | AD9: 電話・メールでの応募のみ | AE9: 電話・メールでの応募のみ | AF9: 電話・メールでの応募のみ | AG9: 電話・メールでの応募のみ | AH9: 電話・メールでの応募のみ | AI9: 電話・メールでの応募のみ | AJ9: 電話・メールでの応募のみ | AK9: 電話・メールでの応募のみ | AL9: 電話・メールでの応募のみ | AM9: 電話・メールでの応募のみ | AN9: 電話・メールでの応募のみ | AO9: 電話・メールでの応募のみ | AP9: 電話・メールでの応募のみ | AQ9: 電話・メールでの応募のみ | AR9: 電話・メールでの応募のみ | AS9: 電話・メールでの応募のみ | AT9: 電話・メールでの応募のみ | AU9: 電話・メールでの応募のみ | AV9: 電話・メールでの応募のみ | AW9: 電話・メールでの応募のみ | AX9: 電話・メールでの応募のみ | AY9: 電話・メールでの応募のみ | AZ9: 電話・メールでの応募のみ | BA9: 電話・メールでの応募のみ | BB9: 電話・メールでの応募のみ | BC9: 電話・メールでの応募のみ | BD9: 電話・メールでの応募のみ | BE9: 電話・メールでの応募のみ | BF9: 電話・メールでの応募のみ | BG9: 電話・メールでの応募のみ | BH9: 電話・メールでの応募のみ | BI9: 電話・メールでの応募のみ | BJ9: 電話・メールでの応募のみ | BK9: 電話・メールでの応募のみ | BL9: 電話・メールでの応募のみ | BM9: 電話・メールでの応募のみ | BN9: 電話・メールでの応募のみ | BO9: 電話・メールでの応募のみ | BP9: 電話・メールでの応募のみ | BQ9: 電話・メールでの応募のみ | BR9: 電話・メールでの応募のみ | BS9: 電話・メールでの応募のみ | BT9: 電話・メールでの応募のみ | BU9: 電話・メールでの応募のみ | BV9: 電話・メールでの応募のみ | BW9: 電話・メールでの応募のみ | BX9: 電話・メールでの応募のみ | BY9: 電話・メールでの応募のみ | BZ9: 電話・メールでの応募のみ | CA9: 電話・メールでの応募のみ | CB9: 電話・メールでの応募のみ | CC9: 電話・メールでの応募のみ | CD9: 電話・メールでの応募のみ | CE9: 電話・メールでの応募のみ | CF9: 電話・メールでの応募のみ | CG9: 随時 | CH9: 平日8：30～17：00 （12：00～12：45を除く） | CI9: 平日8：30～17：00 （12：00～12：45を除く） | CJ9: 平日8：30～17：00 （12：00～12：45を除く） | CK9: 平日8：30～17：00 （12：00～12：45を除く） | CL9: 平日8：30～17：00 （12：00～12：45を除く） | CM9: 平日8：30～17：00 （12：00～12：45を除く） | CN9: 平日8：30～17：00 （12：00～12：45を除く） | CO9: 平日8：30～17：00 （12：00～12：45を除く） | CP9: 平日8：30～17：00 （12：00～12：45を除く） | CQ9: 平日8：30～17：00 （12：00～12：45を除く） | CR9: 平日8：30～17：00 （12：00～12：45を除く） | CS9: 平日8：30～17：00 （12：00～12：45を除く） | CT9: 平日8：30～17：00 （12：00～12：45を除く） | CU9: 平日8：30～17：00 （12：00～12：45を除く） | CV9: 平日8：30～17：00 （12：00～12：45を除く） | CW9: 平日8：30～17：00 （12：00～12：45を除く） | CX9: 平日8：30～17：00 （12：00～12：45を除く） | CY9: 平日8：30～17：00 （12：00～12：45を除く） | CZ9: 平日8：30～17：00 （12：00～12：45を除く） | DA9: 平日8：30～17：00 （12：00～12：45を除く） | DB9: 平日8：30～17：00 （12：00～12：45を除く） | DC9: 平日8：30～17：00 （12：00～12：45を除く） | DD9: 平日8：30～17：00 （12：00～12：45を除く） | DE9: 平日8：30～17：00 （12：00～12：45を除く） | DF9: 平日8：30～17：00 （12：00～12：45を除く） | DG9: 平日8：30～17：00 （12：00～12：45を除く） | DH9: 平日8：30～17：00 （12：00～12：45を除く） | DI9: 平日8：30～17：00 （12：00～12：45を除く） | DJ9: 平日8：30～17：00 （12：00～12：45を除く） | DK9: 平日8：30～17：00 （12：00～12：45を除く） | DL9: 平日8：30～17：00 （12：00～12：45を除く） | DM9: 平日8：30～17：00 （12：00～12：45を除く） | DN9: 平日8：30～17：00 （12：00～12：45を除く） | DO9: 平日8：30～17：00 （12：00～12：45を除く） | DP9: 平日8：30～17：00 （12：00～12：45を除く） | DQ9: 平日8：30～17：00 （12：00～12：45を除く） | DR9: 平日8：30～17：00 （12：00～12：45を除く） | DS9: 平日8：30～17：00 （12：00～12：45を除く） | DT9: 平日8：30～17：00 （12：00～12：45を除く） | DU9: 平日8：30～17：00 （12：00～12：45を除く） | DV9: 平日8：30～17：00 （12：00～12：45を除く） | DW9: 平日8：30～17：00 （12：00～12：45を除く） | DX9: 平日8：30～17：00 （12：00～12：45を除く） | DY9: 平日8：30～17：00 （12：00～12：45を除く） | DZ9: 平日8：30～17：00 （12：00～12：45を除く） | EA9: 平日8：30～17：00 （12：00～12：45を除く） | EB9: 平日8：30～17：00 （12：00～12：45を除く） | EC9: 平日8：30～17：00 （12：00～12：45を除く） | ED9: 平日8：30～17：00 （12：00～12：45を除く） | EE9: 平日8：30～17：00 （12：00～12：45を除く） | EF9: 平日8：30～17：00 （12：00～12：45を除く） | EG9: 平日8：30～17：00 （12：00～12：45を除く） | EH9: 平日8：30～17：00 （12：00～12：45を除く） | EI9: 平日8：30～17：00 （12：00～12：45を除く） | EJ9: 平日8：30～17：00 （12：00～12：45を除く） | EK9: 平日8：30～17：00 （12：00～12：45を除く） | EL9: 平日8：30～17：00 （12：00～12：45を除く） | EM9: 平日8：30～17：00 （12：00～12：45を除く） | EN9: 平日8：30～17：00 （12：00～12：45を除く） | EO9: 平日8：30～17：00 （12：00～12：45を除く） | EP9: 平日8：30～17：00 （12：00～12：45を除く） | EQ9: 平日8：30～17：00 （12：00～12：45を除く）
C10: 所要時間 | D10: 相談に応じます | E10: 相談に応じます | F10: 相談に応じます | G10: 相談に応じます | H10: 相談に応じます （９０分から１８０分程度） | I10: 相談に応じます （９０分から１８０分程度） | J10: 相談に応じます （９０分から１８０分程度） | K10: 2時間程度 | L10: 相談に応じます | M10: 相談に応じます （１～２時間程度） | N10: 相談に応じます （１．５～３時間程度） | O10: 相談に応じます （１～２時間程度） | P10: 相談に応じます | Q10: 相談に応じます | R10: 相談に応じます | S10: 相談に応じます | T10: 相談に応じます （1時間程度） | U10: 90分 | V10: 90分 | W10: 90分 | X10: 90分 | Y10: 90分 | Z10: 90分 | AA10: 90分 | AB10: 90分 | AC10: 90分 | AD10: 90分 | AE10: 90分 | AF10: 90分 | AG10: 90分 | AH10: 90分 | AI10: 90分 | AJ10: 90分 | AK10: 90分 | AL10: 90分 | AM10: 90分 | AN10: 90分 | AO10: 90分 | AP10: 90分 | AQ10: 90分 | AR10: 90分 | AS10: 90分 | AT10: 90分 | AU10: 90分 | AV10: 90分 | AW10: 90分 | AX10: 90分 | AY10: 90分 | AZ10: 90分 | BA10: 90分 | BB10: 90分 | BC10: 90分 | BD10: 90分 | BE10: 90分 | BF10: 90分 | BG10: 90分 | BH10: 90分 | BI10: 90分 | BJ10: 90分 | BK10: 90分 | BL10: 90分 | BM10: 90分 | BN10: 90分 | BO10: 90分 | BP10: 90分 | BQ10: 90分 | BR10: 90分 | BS10: 90分 | BT10: 90分 | BU10: 90分 | BV10: 90分 | BW10: 90分 | BX10: 90分 | BY10: 90分 | BZ10: 90分 | CA10: 90分 | CB10: 90分 | CC10: 90分 | CD10: 90分 | CE10: 90分 | CF10: 90分 | CG10: 依頼内容による | CH10: 50分～90分 | CI10: 相談に応じます | CJ10: 相談に応じます | CK10: 相談に応じます | CL10: 相談に応じます | CM10: 相談に応じます | CN10: 相談に応じます | CO10: 相談に応じます | CP10: 相談に応じます | CQ10: 相談に応じます | CR10: 相談に応じます | CS10: 相談に応じます | CT10: 相談に応じます | CU10: 相談に応じます | CV10: 相談に応じます | CW10: 相談に応じます | CX10: 相談に応じます | CY10: 相談に応じます | CZ10: 相談に応じます | DA10: 相談に応じます | DB10: 相談に応じます | DC10: 相談に応じます | DD10: 相談に応じます | DE10: 相談に応じます | DF10: 相談に応じます | DG10: 相談に応じます | DH10: 相談に応じます | DI10: 相談に応じます | DJ10: 相談に応じます | DK10: 相談に応じます | DL10: 相談に応じます | DM10: 相談に応じます | DN10: 相談に応じます | DO10: 相談に応じます | DP10: 相談に応じます | DQ10: 相談に応じます | DR10: 相談に応じます | DS10: 相談に応じます | DT10: 相談に応じます | DU10: 相談に応じます | DV10: 相談に応じます | DW10: 相談に応じます | DX10: 相談に応じます | DY10: 相談に応じます | DZ10: 相談に応じます | EA10: 相談に応じます | EB10: 相談に応じます | EC10: 相談に応じます | ED10: 相談に応じます | EE10: 相談に応じます | EF10: 相談に応じます | EG10: 相談に応じます | EH10: 相談に応じます | EI10: 相談に応じます | EJ10: 相談に応じます | EK10: 相談に応じます | EL10: 相談に応じます | EM10: 相談に応じます | EN10: 相談に応じます | EO10: 相談に応じます | EP10: 相談に応じます | EQ10: 相談に応じます
C11: 受入れ可能人数 | D11: 相談に応じます | E11: 相談に応じます | F11: 相談に応じます | G11: 相談に応じます | H11: 相談に応じます | I11: 相談に応じます | J11: 相談に応じます | K11: 相談に応じます | L11: 相談に応じます | M11: 相談に応じます | N11: 相談に応じます | O11: 相談に応じます | P11: 相談に応じます | Q11: 相談に応じます | R11: 相談に応じます | S11: 相談に応じます | T11: 相談に応じます | U11: 40人 | V11: 40人 | W11: 40人 | X11: 40人 | Y11: 40人 | Z11: 40人 | AA11: 40人 | AB11: 40人 | AC11: 40人 | AD11: 40人 | AE11: 40人 | AF11: 40人 | AG11: 40人 | AH11: 40人 | AI11: 40人 | AJ11: 20人 | AK11: 40人 | AL11: 40人 | AM11: 40人 | AN11: 40人 | AO11: 40人 | AP11: 40人 | AQ11: 40人 | AR11: 40人 | AS11: 40人 | AT11: 40人 | AU11: 40人 | AV11: 40人 | AW11: 40人 | AX11: 40人 | AY11: 40人 | AZ11: 40人 | BA11: 40人 | BB11: 10人 | BC11: 40人 | BD11: 40人 | BE11: 40人 | BF11: 20人 | BG11: 40人 | BH11: 20～30人 | BI11: 20人 | BJ11: 20人 | BK11: 20人 | BL11: 40人 | BM11: 40人 | BN11: 40人 | BO11: 20人 | BP11: 40人 | BQ11: 20人 | BR11: 20人 | BS11: 40人 | BT11: 20人 | BU11: 20人 | BV11: 20人 | BW11: 20人 | BX11: 40人 | BY11: 40人 | BZ11: 15人 | CA11: 15人 | CB11: 40人 | CC11: 40人 | CD11: 40人 | CE11: 20人 | CF11: 20人 | CG11: 依頼内容による | CH11: 相談に応じます | CI11: 相談に応じます | CJ11: 相談に応じます | CK11: 相談に応じます | CL11: 相談に応じます | CM11: 相談に応じます | CN11: 相談に応じます | CO11: 相談に応じます | CP11: 相談に応じます | CQ11: 相談に応じます | CR11: 相談に応じます | CS11: 相談に応じます | CT11: 相談に応じます | CU11: 相談に応じます | CV11: 相談に応じます | CW11: 相談に応じます | CX11: 相談に応じます | CY11: 相談に応じます | CZ11: 相談に応じます | DA11: 相談に応じます | DB11: 相談に応じます | DC11: 相談に応じます | DD11: 相談に応じます | DE11: 相談に応じます | DF11: 相談に応じます | DG11: 相談に応じます | DH11: 相談に応じます | DI11: 相談に応じます | DJ11: 相談に応じます | DK11: 相談に応じます | DL11: 相談に応じます | DM11: 相談に応じます | DN11: 相談に応じます | DO11: 相談に応じます | DP11: 相談に応じます | DQ11: 相談に応じます | DR11: 相談に応じます | DS11: 相談に応じます | DT11: 相談に応じます | DU11: 相談に応じます | DV11: 相談に応じます | DW11: 相談に応じます | DX11: 相談に応じます | DY11: 相談に応じます | DZ11: 相談に応じます | EA11: 相談に応じます | EB11: 相談に応じます | EC11: 相談に応じます | ED11: 相談に応じます | EE11: 相談に応じます | EF11: 相談に応じます | EG11: 相談に応じます | EH11: 相談に応じます | EI11: 相談に応じます | EJ11: 相談に応じます | EK11: 相談に応じます | EL11: 相談に応じます | EM11: 相談に応じます | EN11: 相談に応じます | EO11: 相談に応じます | EP11: 相談に応じます | EQ11: 相談に応じます
C12: 見学申込み先 | D12: soumu-kikaku@toba-cmt.ac.jp | E12: soumu-kikaku@toba-cmt.ac.jp | F12: soumu-kikaku@toba-cmt.ac.jp | G12: soumu-kikaku@toba-cmt.ac.jp | H12: soumu-kikaku@toba-cmt.ac.jp | I12: soumu-kikaku@toba-cmt.ac.jp | J12: soumu-kikaku@toba-cmt.ac.jp | K12: soumu-kikaku@toba-cmt.ac.jp | L12: soumu-kikaku@toba-cmt.ac.jp | M12: soumu-kikaku@toba-cmt.ac.jp | N12: soumu-kikaku@toba-cmt.ac.jp | O12: soumu-kikaku@toba-cmt.ac.jp | P12: soumu-kikaku@toba-cmt.ac.jp | Q12: soumu-kikaku@toba-cmt.ac.jp | R12: soumu-kikaku@toba-cmt.ac.jp | S12: soumu-kikaku@toba-cmt.ac.jp | T12: soumu-kikaku@toba-cmt.ac.jp | U12: 学生課教務係 | V12: 学生課教務係 | W12: 学生課教務係 | X12: 学生課教務係 | Y12: 学生課教務係 | Z12: 学生課教務係 | AA12: 学生課教務係 | AB12: 学生課教務係 | AC12: 学生課教務係 | AD12: 学生課教務係 | AE12: 学生課教務係 | AF12: 学生課教務係 | AG12: 学生課教務係 | AH12: 学生課教務係 | AI12: 学生課教務係 | AJ12: 学生課教務係 | AK12: 学生課教務係 | AL12: 学生課教務係 | AM12: 学生課教務係 | AN12: 学生課教務係 | AO12: 学生課教務係 | AP12: 学生課教務係 | AQ12: 学生課教務係 | AR12: 学生課教務係 | AS12: 学生課教務係 | AT12: 学生課教務係 | AU12: 学生課教務係 | AV12: 学生課教務係 | AW12: 学生課教務係 | AX12: 学生課教務係 | AY12: 学生課教務係 | AZ12: 学生課教務係 | BA12: 学生課教務係 | BB12: 学生課教務係 | BC12: 学生課教務係 | BD12: 学生課教務係 | BE12: 学生課教務係 | BF12: 学生課教務係 | BG12: 学生課教務係 | BH12: 学生課教務係 | BI12: 学生課教務係 | BJ12: 学生課教務係 | BK12: 学生課教務係 | BL12: 学生課教務係 | BM12: 学生課教務係 | BN12: 学生課教務係 | BO12: 学生課教務係 | BP12: 学生課教務係 | BQ12: 学生課教務係 | BR12: 学生課教務係 | BS12: 学生課教務係 | BT12: 学生課教務係 | BU12: 学生課教務係 | BV12: 学生課教務係 | BW12: 学生課教務係 | BX12: 学生課教務係 | BY12: 学生課教務係 | BZ12: 学生課教務係 | CA12: 学生課教務係 | CB12: 学生課教務係 | CC12: 学生課教務係 | CD12: 学生課教務係 | CE12: 学生課教務係 | CF12: 学生課教務係 | CG12: http://www.sasebo.ac.jp/snct/p_open/demae | CH12: soumu@maizuru-ct.ac.jp | CI12: koho@hiroshima-cmt.ac.jp | CJ12: koho@hiroshima-cmt.ac.jp | CK12: koho@hiroshima-cmt.ac.jp | CL12: koho@hiroshima-cmt.ac.jp | CM12: koho@hiroshima-cmt.ac.jp | CN12: koho@hiroshima-cmt.ac.jp | CO12: koho@hiroshima-cmt.ac.jp | CP12: koho@hiroshima-cmt.ac.jp | CQ12: koho@hiroshima-cmt.ac.jp | CR12: koho@hiroshima-cmt.ac.jp | CS12: koho@hiroshima-cmt.ac.jp | CT12: koho@hiroshima-cmt.ac.jp | CU12: koho@hiroshima-cmt.ac.jp | CV12: koho@hiroshima-cmt.ac.jp | CW12: koho@hiroshima-cmt.ac.jp | CX12: koho@hiroshima-cmt.ac.jp | CY12: koho@hiroshima-cmt.ac.jp | CZ12: koho@hiroshima-cmt.ac.jp | DA12: koho@hiroshima-cmt.ac.jp | DB12: koho@hiroshima-cmt.ac.jp | DC12: koho@hiroshima-cmt.ac.jp | DD12: koho@hiroshima-cmt.ac.jp | DE12: koho@hiroshima-cmt.ac.jp | DF12: koho@hiroshima-cmt.ac.jp | DG12: koho@hiroshima-cmt.ac.jp | DH12: koho@hiroshima-cmt.ac.jp | DI12: koho@hiroshima-cmt.ac.jp | DJ12: koho@hiroshima-cmt.ac.jp | DK12: koho@hiroshima-cmt.ac.jp | DL12: koho@hiroshima-cmt.ac.jp | DM12: koho@hiroshima-cmt.ac.jp | DN12: koho@hiroshima-cmt.ac.jp | DO12: koho@hiroshima-cmt.ac.jp | DP12: koho@hiroshima-cmt.ac.jp | DQ12: koho@hiroshima-cmt.ac.jp | DR12: koho@hiroshima-cmt.ac.jp | DS12: koho@hiroshima-cmt.ac.jp | DT12: koho@hiroshima-cmt.ac.jp | DU12: koho@hiroshima-cmt.ac.jp | DV12: koho@hiroshima-cmt.ac.jp | DW12: koho@hiroshima-cmt.ac.jp | DX12: koho@hiroshima-cmt.ac.jp | DY12: koho@hiroshima-cmt.ac.jp | DZ12: koho@hiroshima-cmt.ac.jp | EA12: koho@hiroshima-cmt.ac.jp | EB12: koho@hiroshima-cmt.ac.jp | EC12: koho@hiroshima-cmt.ac.jp | ED12: koho@hiroshima-cmt.ac.jp | EE12: koho@hiroshima-cmt.ac.jp | EF12: koho@hiroshima-cmt.ac.jp | EG12: koho@hiroshima-cmt.ac.jp | EH12: koho@hiroshima-cmt.ac.jp | EI12: koho@hiroshima-cmt.ac.jp | EJ12: koho@hiroshima-cmt.ac.jp | EK12: koho@hiroshima-cmt.ac.jp | EL12: koho@hiroshima-cmt.ac.jp | EM12: koho@hiroshima-cmt.ac.jp | EN12: koho@hiroshima-cmt.ac.jp | EO12: koho@hiroshima-cmt.ac.jp | EP12: koho@hiroshima-cmt.ac.jp | EQ12: koho@hiroshima-cmt.ac.jp
C13: フリーワード （見学メニューや学習活動など概要がわかるよう単語や文章で記載） | D13: 【出前授業】中学生向け 「機関士のしごと体験」 船のエンジンルームとそっくりな陸上施設を使って、船が動くしくみを学びます。講習を受けたら、船ではさわれない機械を操作したり、大きいエンジンを実際に動かします。 運転中は、船のお医者さんとして、エンジンが止まらないように検査をしたり、おかしいところがあれば直します。船酔いをしないで機関士の仕事を体験できます。 | E13: 【出前授業】中学生向け 「物を冷やす仕組み」 エアコンや冷蔵庫など物を冷やす方法について、わかりやすく説明します。物が冷える仕組みを理解しながら、実際に冷凍装置を動かして、冷凍の基本を学ぶことができます。 | F13: 【出前授業】中学生向け 「オリジナルTシャツ・バッグ作成講座」 パソコンを活用してオリジナルTシャツやエコバッグのデザインを作成します。アイロンプリントを利用することで鮮明な印刷が可能となります（Tシャツ、バッグは各自でご用意ください）。 | G13: 【出前授業】中学生向け 「食品の加熱って？-電気を利用したヒーターの製作－」 食品は、どのように加熱するとおいしくなる？どのようにすると安く加熱できるの？といった疑問を、様々な食品用ヒーターを紹介して説明します。また、電気を用いた簡単なヒーターを製作し、実際に食品を加熱して試食してみましょう。 | H13: 【出前授業】中学生向け 「LEGOロボットを作ろう（初級）」 レゴブロックを使って手順書の通りに自分でロボットを作り、動かします。初心者でも気軽に製作することができます。組立てたロボットを使って競争しながら、ものづくりの楽しさを体験してください。 | I13: 【出前授業】中学生向け 「LEGOロボットを作ろう（機械）」 LEGOロボットを作成し、少し高度な機械の動きについて勉強します。重要な歯車、軸、車輪などの機械要素を学んだうえで、設計書に基づいて様々な機構を構築します。さらに、センサを用いた動作も挑戦しましょう。 | J13: 【出前授業】中学生向け 「LEGOロボットを作ろう（情報）」 LEGOロボットを作成し、制御プログラムについて勉強します。様々なセンサから得られるデータに基づいて、動作を変更するライントレースロボットを製作しましょう。 | K13: 【出前授業】中学生向け 「オリジナル下敷きを作ろう！」 パソコンを使ってお絵かきしてオリジナル下敷きを作る講座です。マウスやキーボードの基本的な使い方を学習し、お絵かきツールで描画したり、デジカメで撮影した画像を加工したあとで、下敷きを作成します。 | L13: 【出前授業】中学生向け 「風に向かって走る車を作ろう」 風の力で風車を回し、風車が発生する力を車輪に伝えて、風に向かって走る車を自分たちの手で作ります。風下にふかれてしまうのではなく、風上へと向かっていく不思議な車です。風力発電の原理についても学習ができます。 | M13: 【出前授業】中学生向け 「合成写真を作って遊ぼう」 最近の映画の撮影では、クロマキー合成といって、無地の背景で役者が演じ、背景を合成する、という方法で作られていることがあります。テレビ番組でも、実はセットなんて用意してないことも。と、大掛かりなものはムリですが、今回は全く行ったことも無い場所写真を背景にして、あたかもそこに行ってきたかのような合成写真を作ってみましょう。 ※本校での開催、もしくは、Windows7以降のＰＣをご準備いただく必要があります。 | N13: 【出前授業】中学生向け 「ヒューマノイドアニメーションを作ってみよう」 ３Ｄで作られたキャラクターのアニメーション、テレビや映画、ゲームなどでよく見かけますよね？そこで、コンピュータの中の人型のＣＧを動かしてみましょう。これ、映画やアニメ、ゲームだけでなく、ロボットアームの操作などにも関係する技術なんです！ ※本校での開催、もしくは、Windows7以降のＰＣをご準備いただく必要があります。 | O13: 【出前授業】中学生向け 「３DCGを体験してみよう（初級編）」 ～3Dの物体をコンピュータの中に作ってみよう～ ＴＶや映画、ゲームなど、日常のなかで３Ｄのコンピュータグラフィックスを駆使した画像や映像をよく目にします。また近年では機械設計などでも３Ｄで設計図を作成したりします。そんな３Ｄの立体をコンピュータの中に作ってみましょう。 ※本校での開催、もしくは、Windows7以降のＰＣをご準備いただく必要があります。 | P13: 【出前授業】中学生向け 「３DCGを体験してみよう（応用編）」 ～光の反射や屈折を3Dの世界で再現してみよう～ ＴＶや映画、ゲームなど、日常のなかで３Ｄのコンピュータグラフィックスを駆使した画像や映像をよく目にします。特に映画やゲームでは、光の影や反射などをリアルに再現して、本物のように見えることも多いですよね？今回は、光と影、反射や屈折といった、中学校の理科で勉強するようなことを、３ＤＣＧで再現してみましょう。 ※本校での開催、もしくは、Windows7以降のＰＣをご準備いただく必要があります。 | Q13: 【出前授業】中学生向け 「３DCGアニメーションを体験してみよう」 ～簡単なアニメーションを作成してみよう～ ３ＤＣＧを体験してみよう(初級編）で作成した物体に「うごき」を設定してあげれば、空を飛んだり回転したりさせることができます。 | R13: 【出前授業】中学生向け 「クリップモータで車は走るか？」 クリップモータは、磁石と被覆線で作る最もシンプルなモータです。力は弱いけれど、バランス良く作れば非常によく回ります。電磁力を学習した後、クリップモータを作って動かしてみます。上手くいったら、小さな車を走らせることにチャレンジしよう。 | S13: 【出前授業】中学生向け 「トランシーバを使ってみよう」 離れたところと無料で通話ができる、トランシーバ。遠くに離れた人とどのくらい通話できるか、または、どこにトランシーバを持った人がいるか探してみよう。 | T13: 【出前授業】中学生向け 「商船の話（日本の貿易を支える船と船員）」 日本は資源やエネルギーなどを輸入して、自動車などの工業製品を輸出しています。海に囲まれた日本では、これらの物資は殆ど船で運ばれています。この講座は中学生を対象として、「貿易、船の種類、船員など」について授業を行います。 特に海や港に近い中学校にぴったりです。 | U13: 【出前授業】古来から交通の要衝である瀬戸内海を舞台とした日本古典文学作品を紹介。（万葉集・源氏物語・平家物語・中世日記紀行文・五山文学・若杉慧『エデンの海』等） | V13: 【出前授業】小説の読み方についての，具体的な作品を用いた演習と講義 【事前に，既習および学習予定の教科書教材名をお知らせ下さい】 | W13: 【出前授業】驚くべき世界の歴史と文化についてのぞいてみよう。 | X13: 【出前授業】比較経済学史の大塚久雄先生の理論をわかりやすく紹介。上からの資本主義と下からの資本主義とは何か？ | Y13: 【出前授業】中学生のうちにやっておくべきことを含め，面接での心構えやマナー・自分をPRするポイント・上手な敬語の使い方など，コミュニケーションを円滑に行う方法を学びましょう。 | Z13: 【出前授業】インターネットで起こっている事件や事故を背景に，情報倫理やセキュリティを学ぼう。 | AA13: 【出前授業】もぐらたたきゲームのプログラミングを楽しく体験しよう。 | AB13: 【出前授業】船は人類の生活圏の拡大や貿易による経済の発展に大きく貢献してきた。学校で習う歴史を，船という側面から考えてみる。 | AC13: 【出前授業】海に囲まれたわが国は海運が生活を支えているといって過言ではない。海運を形成する船や港、造船など、海運産業について紹介する。 | AD13: 【出前授業】瀬戸内海と自分たちの住む町との関わりや瀬戸内海を古の時代からモノや人や文化を運んだ船について学習する。 | AE13: 【出前授業】船の基礎知識と世界でも特徴のある瀬戸内海について学習する。 | AF13: 【出前授業】日本や地域の高齢化の実態と高齢化と車社会が引き起こす交通問題について考えます。 | AG13: 【出前授業】世界中で投機が行われて莫大な儲けをする人がいる一方で，生活困難に苦しむ人が居る。これは自然に起きたことではない。カジノ資本主義のからくりを解説する。 | AH13: 【出前授業】モノを効率的に運ぶ仕組みを，オリジナルのボードゲームを使って楽しみながら学ぶことができます。 | AI13: 【出前授業】私達の普段暮らしている社会を，ビジネスの観点から，また，私達自身の行動を経営分析の観点から考えます。 | AJ13: 【出前授業】身の回りにはどのようなルールがあるのだろうか。ルールは何のためにあり、どのように使われているのかを考える。 | AK13: 【出前授業】円周率とは何のことでしょうか？Π，それとも3.14…のことでしょうか？「2002年度実施の小学校学習指導要領の改訂に伴って，3.14と教えていた円周率を3と教えることになった」などと話題になりました。2000 B.C.頃のバビロニア人たちも円周率は3として使っていたそうです。現代の我々もそれで十分なのでしょうか？円周率の重要性および導出方法を説明していきます。 | AL13: 【出前授業】暗算でもできる簡単な計算で年月日から曜日を求める方法を紹介。 | AM13: 【出前授業】線で描かれた図形には，一筆で書けるものと書けないものがあります。それぞれの性質に着目し，うまく見分ける方法を探究します。 | AN13: 【出前授業】コンピュータの内部ではすべてのデータは０と１で表現されます。これを２進数といいます。２進数の仕組みを勉強しましょう。 | AO13: 【出前授業】計算しないでわかるような離散数学に関する問題を紹介し，私の専門である位相幾何学的グラフ理論との関連的な問題を紹介します。 | AP13: 【出前授業】親子はなぜ似ているのか。親から子に伝わる遺伝子の本体DNAの特性と機能を学び，ブロッコリーから実際にDNAを抽出する。 | AQ13: 【出前授業】生物はどれ位過酷な環境なら生きていけるのだろう。高温や強酸性など過酷な条件で生育する生き物を紹介し，どうやって生きているかを解説する。顕微鏡が準備できる場合は，観察も行う。 | AR13: 【出前授業】簡易光ファイバー模型や簡易ラジオメーターの作成，光触媒の実験により，光の屈折や全反射，エネルギーとしての性質を学ぶ。エネルギーと環境問題についても学ぶ。 | AS13: 【出前授業】iPadの電子書籍を用いて，放射線の基礎を視覚的に分かり易く学習した後に，簡易霧箱の工作を行い，放射線（α線とβ線）を観察する。 | AT13: 【出前授業】例えば同じ地震でも建物によって揺れ方が違うのはなぜでしょう？振動についての不思議を，シミュレーションと実験装置を使ってわかりやすく説明します。 | AU13: 【出前授業】原子力発電及び放射線や放射能について分かりやすく説明し，危険性について判断できる能力をつける。 | AV13: 【出前授業】身の回りにある物質を作っている原子について分かりやすく説明し，その中身が何であるかを説明する。 | AW13: 【出前授業】船の中で電気がどのように使われているかを，練習船広島丸の写真などを用いて分かりやすく説明する。 | AX13: 【出前授業】船を例にして，自分の位置を知る方法の歴史と原理について，大航海時代からGPSまで説明する。 | AY13: 【出前授業】日本からは見えにくいこともあり，なじみが薄い南天の星座はユニークなものが多い。授業では星座にまつわる話などを交え，これらを紹介する。 | AZ13: 【出前授業】流れのコンピュータ・シミュレーションの概要と手順を紹介し，シミュレーション科学の重要性を認識してもらう。 | BA13: 【出前授業】家庭用電気製品と電気代の関係。その他電気に関する知識をわかりやすく説明。 | BB13: 【出前授業】空気や水のおもしろい性質を，家庭にある材料をもちいて作成したさまざまな実験器具を用いて，学ぶ。 例）ポンプを使わずに水を移動させる・水で速度計をつくる・流れる空気が壁にあたるときの力計測，浮力体験など 目的：空気や水のおもしろい性質を実際に体験することによって，流体力学に興味関心をもってもらう。 | BC13: 【出前授業】身の回りに多くある金属製品。それらの金属製品がどのように加工され手元に届いているかをわかりやすく説明。 | BD13: 【出前授業】１kgの物体はどんな場所でも１kgであるかという点から始めて，世界共通の計測標準の意義を解説する。いろいろな秤の原理を模擬装置を使って説明する。 | BE13: 【出前授業】物理やコンピュータサイエンスのいくつかのトピックをわかりやすく説明。 | BF13: 【出前授業】アマモや周辺海域についての学習と，海洋環境についての実体験や観察を通じて，海を知り海に学ぶためのプログラムを３名の教員を中心に技術職員の協力を得て提供する。 | BG13: 【出前授業】足が速いということは生まれつきではなく，走り方のコツが分かれば誰でも速くなれるということを，小中学生にも分かりやすい理論と実技で講習する。 | BH13: 【出前授業】バスケットボールのゴールは、高さ3mの場所に位置し、シュートには特有の技能が必要となってくる。また長距離のシュートは上肢と下肢の連動性や、シュートフォームが重要となってくる。長距離シュート習得のための、理論や練習法を実技形式で講義する。 | BI13: 【出前授業】パソコンを使って，ロボットを制御するプログラムを作成します。また，作成したプログラムを使って実際にロボットを動かしてみます。 | BJ13: 【出前授業】昔から現在の通信技術の移り変わりや，音や光を使った通信について説明する。 | BK13: 【出前授業】Processingというプログラミング言語を使って，ミニゲームを作る体験を行います。（パソコン教室を使います） | BL13: 【出前授業】ガソリンエンジン・ディーゼルエンジン，ジェットエンジンの仕組みと動きを簡単に説明する。 | BM13: 【出前授業】最近は，いろいろな会社でコンピュータシミュレーションを使ったもの作りを行っている。どのように行って，どんな利点があるのかを簡単に説明する。 | BN13: 【出前授業】混相流とは何か，日常にある混相流にはどのようなものがあるのかなどを説明する。 | BO13: 【出前授業】船で使うひもの結び方から応用して家庭で使えるひもの結び方を実践で紹介。 | BP13: 【出前授業】身近にある様々な接着剤について，どのような特徴があるのかをわかりやすく説明する。 | BQ13: 【出前授業】永久磁石，電磁石，超電導磁石など，様々な種類の磁石を紹介し，それぞれの利点と産業応用例について紹介する。その後，電池とコイルによって磁力が発生する原理を説明し，電池と磁石とコイルによって動く模型に触れる。 | BR13: 【出前授業】ディスプレイ，太陽電池に代表される大面積エレクトロニクスの技術を優しく説明し，電子の生成を理解すると共に実際に太陽電池でLEDを点灯させてみる。 | BS13: 【出前授業】情報化社会を支える情報通信技術の中で重要な情報源圧縮と誤り訂正技術について身近な例を挙げて解説する。 | BT13: 【出前授業】生産するための原材料が工場に届けられたり，生産された商品が消費者の手に届くまでに関わる陸海空の輸送手段の役割について判りやすく説明。 | BU13: 【出前授業】テレビ映像やディジタルカメラで撮影した写真は，見やすく加工されています。この画像を見やすくする方法について紹介し，実際に画像の加工を体験します（パソコン教室使用）。 | BV13: 【出前授業】私達の生活に必要な物資を世界中に届ける船舶の種類や役割について説明する。 | BW13: 【出前授業】コンピュータはプログラムがないと何もできません。プログラムを作って，コンピュータに何をするのか命令（めいれい）してやらないといけないのです。プログラムづくりに挑戦（ちょうせん）してみましょう。 | BX13: 【出前授業】英語やドイツ語，それに日本語を素材として，ことばの楽しさに気づくことによって，語学への学習意欲を高めます。 | BY13: 【出前授業】フランス語，スペイン語，イタリア語のうちいずれかの，初歩の文法説明，挨拶表現の紹介。あるいは，三つを合わせた初歩の文法説明，挨拶表現の紹介。 | BZ13: 【出前授業】英国人，米国人が話す英語を聞き取れる耳を作る学習法を紹介。 | CA13: 【出前授業】発音は聞くこと・読むことにつながります。英語発音とつづりとの関係を様々な音読練習を通して学びます。 | CB13: 【出前授業】1492年，コロンブスのアメリカ大陸到達の年，スペイン国内に生じた歴史の局面を通して，ことばについてあるいは言葉と国家の関わりを考える。 | CC13: 【出前授業】海の役割や船の種類・歴史，海運の必要性，船の環境対策等についてわかりやすく説明。 | CD13: 【出前授業】瀬戸内海では津波による被害はあまり大きくはない，そんな地域だからこそ，被害の大きい沿岸地域の互助が可能な地域である。津波を学び，自分の地域で発生した場合どうしたらよいのか，避難の為にはどのようなことを気を付けなければならないのか，防災教育について学習する。津波以外の災害についても取り扱うことが可能である。（土砂災害，高潮，台風等） | CE13: 【出前授業】海にプラスの影響を与えているアマモをテーマに海洋体験・海洋観察。海洋調査を通じて，海を知り・海に慣れ親しむための海洋体験型プログラム。 | CF13: 【出前授業】防ごう水難事故！水難事故発生時における自己救命と他者救助法の紹介を行います。また着衣泳法の実技指導や救命胴衣の重要性について学びます。 | CG13: 【出前授業】 科学技術に携わる技術者及び研究者が、主に小・中学校を訪問し、自身の研究内容及び体験の紹介並びに社会生活において科学技術の成果がどのように利用・活用されているかなどを、直接児童・生徒に語りかけたり、実際に科学実験等を行うという授業を行っています。 | CH13: 【出前授業】中学生以上向けの講座を一覧表より希望する項目を選んでいただきお問合せ下さい。 http://www.maizuru-ct.ac.jp/04school-visit/open-class.html | CI13: 【出前授業】 瀬戸内海と日本(古典)文学 古来から交通の要衝である瀬戸内海を舞台とした日本古典文学作品を紹介。（万葉集・源氏物語・平家物語・中世日記紀行文・五山文学・若杉慧『エデンの海』等） | CJ13: 【出前授業】 小説の読み方について 小説の読み方についての，具体的な作品を用いた演習と講義 【事前に，既習および学習予定の教科書教材名をお知らせ下さい】 | CK13: 【出前授業】 驚きの歴史と文化 驚くべき世界の歴史と文化についてのぞいてみよう。 | CL13: 【出前授業】 資本主義発達の二つの道 比較経済学史の大塚久雄先生の理論をわかりやすく紹介。上からの資本主義と下からの資本主義とは何か？ | CM13: 【出前授業】 マナー学習 面接での心構えやマナー・自分をPRするポイント・上手な敬語の使い方など，コミュニケーションを円滑に行う方法を学びましょう。 | CN13: 【出前授業】 インターネットと上手に付き合おう インターネットで起こっている事件や事故を背景に，情報倫理やセキュリティを学ぼう。 | CO13: 【出前授業】 プログラミングを楽しく学ぼう もぐらたたきゲームのプログラミングを楽しく体験しよう。 | CP13: 【出前授業】 人類の歴史と船の関わり 船は人類の生活圏の拡大や貿易による経済の発展に大きく貢献してきた。学校で習う歴史を，船という側面から考えてみる。 | CQ13: 【出前授業】 わが国の海運産業 海に囲まれたわが国は海運が生活を支えているといって過言ではない。海運を形成する船や港，造船など，海運産業について紹介する。 | CR13: 【出前授業】 瀬戸内海と我が町 瀬戸内海と自分たちの住む町との関わりや瀬戸内海を古の時代からモノや人や文化を運んだ船について学習する。 | CS13: 【出前授業】 瀬戸内海とものはこび ものづくりの国日本は，船によって国内も外国とも繋がっています。船の基礎知識・瀬戸内海を通してものはこび（海運）を学ぶ。 | CT13: 【出前授業】 高齢化と交通 日本や地域の高齢化の実態と高齢化と車社会が引き起こす交通問題について考えます。 | CU13: 【出前授業】 マネーゲームのからくり 世界中で投機が行われて莫大な儲けをする人がいる一方で，生活困難に苦しむ人が居る。これは自然に起きたことではない。カジノ資本主義のからくりを解説する。 | CV13: 【出前授業】 「運ぶん。届けるん。なんぼかかるん？」 ～流通を支えるネットワークゲーム～ モノを効率的に運ぶ仕組みを，オリジナルのボードゲームを使って楽しみながら学ぶことができます。 | CW13: 【出前授業】 身の回りのビジネスと経営分析 私達の普段暮らしている社会を，ビジネスの観点から，また，私達自身の行動を経営分析の観点から考えます。 | CX13: 【出前授業】 ルールって何だろう？ 身の回りにはどのようなルールがあるのだろうか。ルールは何のためにあり，どのように使われているのかを考える。 | CY13: 【出前授業】 円周率πの話 円周率とは何のことでしょうか？Π，それとも3.14…のことでしょうか？「2002年度実施の小学校学習指導要領の改訂に伴って，3.14と教えていた円周率を3と教えることになった」などと話題になりました。2000 B.C.頃のバビロニア人たちも円周率は3として使っていたそうです。現代の我々もそれで十分なのでしょうか？円周率の重要性および導出方法を説明していきます。 | CZ13: 【出前授業】 初等整数論への誘い 暗算でもできる簡単な計算で年月日から曜日を求める方法を紹介。 | DA13: 【出前授業】 「一筆書き」の謎を解明しよう！ 線で描かれた図形には，一筆で書けるものと書けないものがあります。それぞれの性質に着目し，うまく見分ける方法を探究します。 | DB13: 【出前授業】 ２進数入門 （０と１の世界） コンピュータの内部ではすべてのデータは０と１で表現されます。これを２進数といいます。２進数の仕組みを勉強しましょう。 | DC13: 【出前授業】 離散数学とグラフ理論 計算しないでわかるような離散数学に関する問題を紹介し，私の専門である位相幾何学的グラフ理論との関連的な問題を紹介します。 | DD13: 【出前授業】 遺伝子の本体DNA 親子はなぜ似ているのか。親から子に伝わる遺伝子の本体DNAの特性と機能を学び，ブロッコリーから実際にDNAを抽出する。 | DE13: 【出前授業】 強い生き物たち 生物はどれ位過酷な環境なら生きていけるのだろう。高温や強酸性など過酷な条件で生育する生き物を紹介し，どうやって生きているかを解説する。顕微鏡が準備できる場合は，観察も行う。 | DF13: 【出前授業】 光についての理科実験 簡易光ファイバー模型や簡易ラジオメーターの作成，光触媒の実験により，光の屈折や全反射，エネルギーとしての性質を学ぶ。エネルギーと環境問題についても学ぶ。 | DG13: 【出前授業】 見てみよう，測ってみよう，身近な放射線 iPadの電子書籍を用いて，放射線の基礎を視覚的に分かり易く学習した後に，簡易な霧箱の工作を行い，放射線（α線とβ線）を観察する。身近なものからの放射線の計測実験も行う。 | DH13: 【出前授業】 振動の不思議を学ぼう！ 例えば同じ地震でも建物によって揺れ方が違うのはなぜでしょう？振動についての不思議を，シミュレーションと実験装置を使ってわかりやすく説明します。 | DI13: 【出前授業】 原子力と放射線 （安全？危険？） 原子力発電及び放射線や放射能について分かりやすく説明し，危険性について判断できる能力をつける。 | DJ13: 【出前授業】 宇宙は何からできているか （素粒子の世界） 身の回りにある物質を作っている原子について分かりやすく説明し，その中身が何であるかを説明する。 | DK13: 【出前授業】 船と電気の切っても切れない関係 船の中で電気がどのように使われているかを，練習船広島丸の写真などを用いて分かりやすく説明する。 | DL13: 【出前授業】 自分の位置を知る方法 船を例にして，自分の位置を知る方法の歴史と原理について，大航海時代からGPSまで説明する。 | DM13: 【出前授業】 南天の星空散策 日本からは見えにくいこともあり，なじみが薄い南天の星座はユニークなものが多い。授業では星座にまつわる話などを交え，これらを紹介する。 | DN13: 【出前授業】 コンピュータで流れを見る 流れのコンピュータ・シミュレーションの概要と手順を紹介し，シミュレーション科学の重要性を認識してもらう。 | DO13: 【出前授業】 身近な家電と電気代について 家庭用電気製品と電気代の関係。その他電気に関する知識をわかりやすく説明。 | DP13: 【出前授業】 金属の加工 身の回りに多くある金属製品。それらの金属製品がどのように加工され手元に届いているかをわかりやすく説明。 | DQ13: 【出前授業】 計測標準とくらしの関わり １kgの物体はどんな場所でも１kgであるかという点から始めて，世界共通の計測標準の意義を解説する。いろいろな秤の原理を模擬装置を使って説明する。 | DR13: 【出前授業】 物理やコンピュータサイエンスのいくつかのトピック 物理やコンピュータサイエンスのいくつかのトピックをわかりやすく説明。 | DS13: 【出前授業】 アマモの観察 アマモや周辺海域についての学習と，海洋環境についての実体験や観察を通じて，海を知り海に学ぶためのプログラムを関係教員を中心に技術職員の協力を得て提供する。 | DT13: 【出前授業】 浮力について学ぼう なぜ船は浮かぶことができるのか？アルキメデスが浮力を発見した経緯と浮力について理解を深め，なぜ船が浮かぶことができるのか分かりやすく説明 | DU13: 【出前授業】 速く走るコツ教室 足が速いということは生まれつきではなく，走り方のコツが分かれば誰でも速くなれるということを，分かりやすい理論と実技で講習する。 | DV13: 【出前授業】 初めてのウォーキング・ジョギング講座 ウォーキングやジョギングを始めるにあたっての注意点や，身体に負担のかからないフォームやペース設定，練習方法などを理論と実技を交えて講習する。 | DW13: 【出前授業】 バスケットボールの長距離シュートのコツについて バスケットボールのゴールは，高さ3mの場所に位置し，シュートには特有の技能が必要となってくる。また長距離のシュートは上肢と下肢の連動性や，シュートフォームが重要となってくる。長距離シュート習得のための，理論や練習法を実技形式で講義する。 | DX13: 【出前授業】 ロボット制御入門 パソコンを使って，ロボットを制御するプログラムを作成します。また，作成したプログラムを使って実際にロボットを動かしてみます。 | DY13: 【出前授業】 通信技術の移り変わり 昔から現在の通信技術の移り変わりや，音や光を使った通信について説明する。 | DZ13: 【出前授業】 ゲームプログラミング体験 Processingというプログラミング言語を使って，ミニゲームを作る体験を行います。（パソコン教室を使います） | EA13: 【出前授業】 混相流について 混相流とは何か，日常にある混相流にはどのようなものがあるのかなどを説明する。 | EB13: 【出前授業】 役に立つひも結び 船で使うひもの結び方から応用して家庭で使えるひもの結び方を実践で紹介。 | EC13: 【出前授業】 接着剤の話 身近にある様々な接着剤について，どのような特徴があるのかをわかりやすく説明する。 | ED13: 【出前授業】 様々な磁石の種類と応用例 永久磁石，電磁石，超電導磁石など，様々な種類の磁石を紹介し，それぞれの利点と産業応用例について紹介する。その後，電池とコイルによって磁力が発生する原理を説明し，電池と磁石とコイルによって動く模型に触れる。 | EE13: 【出前授業】 大面積エレクトロニクス ディスプレイ，太陽電池に代表される大面積エレクトロニクスの技術を優しく説明し，電子の生成を理解すると共に実際に太陽電池でLEDを点灯させてみる。 | EF13: 【出前授業】 情報理論入門 情報化社会を支える情報通信技術の中で重要な情報源圧縮と誤り訂正技術について身近な例を挙げて解説する。 | EG13: 【出前授業】 働く乗り物 生産するための原材料が工場に届けられたり，生産された商品が消費者の手に届くまでに関わる陸海空の輸送手段の役割について判りやすく説明。 | EH13: 【出前授業】 映像・画像加工技術の体験 テレビ映像やディジタルカメラで撮影した写真は，見やすく加工されています。この画像を見やすくする方法について紹介し，実際に画像の加工を体験します（パソコン教室使用）。 | EI13: 【出前授業】 私達の生活を支える船 私達の生活に必要な物資を世界中に届ける船舶の種類や役割について説明する。 | EJ13: 【出前授業】 お絵かきプログラムを作ろう コンピュータはプログラムがないと何もできません。プログラムを作って，コンピュータに何をするのか命令してやらないといけないのです。プログラムづくりに挑戦してみましょう。 | EK13: 【出前授業】 設計のこころみ～斜塔～ ものを「設計」するという経験をしていただきます。 通常の学習と順序を逆にして，課題を与え，まず作らせてみます。 最後に製作品の性能を測定し，評価を行います。 | EL13: 【出前授業】 英語耳を作る 英国人，米国人が話す英語を聞き取れる耳を作る学習法を紹介。 | EM13: 【出前授業】 海・船・環境について 海の役割や船の種類・歴史，海運の必要性，船の環境対策等についてわかりやすく説明。 | EN13: 【出前授業】 瀬戸内海と防災教育 瀬戸内海では津波による被害はあまり大きくはない，そんな地域だからこそ，被害の大きい沿岸地域の互助が可能な地域である。津波を学び，自分の地域で発生した場合どうしたらよいのか，避難の為にはどのようなことを気を付けなければならないのか，防災教育について学習する。津波以外の災害についても取り扱うことが可能である。（土砂災害，高潮，台風等） | EO13: 【出前授業】 アマモの海は，綺麗な海 海にプラスの影響を与えているアマモをテーマに，身近な瀬戸内海から，海を知り・海に慣れ親しむことを学ぶ。 | EP13: 【出前授業】 シーサバイバル訓練 防ごう水難事故！水難事故発生時における自己救命と他者救助法の紹介を行います。また着衣泳法の実技指導や救命胴衣の重要性について学びます。 | EQ13: 【出前授業】 はじめての国際協力 貧困，感染症，紛争，自然災害…世界の中で多くの課題は1ケ国だけで解決することは難しくなってきています。国連は2030年までの国際目標として「持続可能な開発目標（SDGs）」を発表しました。この国際目標実現のために，私たちにできることは何か，みんなで考えてみませんか。

Sheet master
A1: 北海道 | B1: 1
A2: 青森県 | B2: 2
A3: 岩手県 | B3: 3
A4: 宮城県 | B4: 4
A5: 秋田県 | B5: 5
A6: 山形県 | B6: 6
A7: 福島県 | B7: 7
A8: 茨城県 | B8: 8
A9: 栃木県 | B9: 9
A10: 群馬県 | B10: 10
A11: 埼玉県 | B11: 11
A12: 千葉県 | B12: 12
... A47: 沖縄県 | B47: 47
