1.0000000000
0.0000000000
0.0000000000
-1.0000000000
14568938.8580000030
3939631.9300000072
