Workbook

Sheet 内閣人事局
A1: 調査票１集計 | C1: 令和６年度における留学費用償還状況（内人局分）
A2: 研修の類型 | C2: 実施機関 | D2: 研修の名称 | E2: 留学期間 | F2: 留学開始者数 | G2: 要償還件数 | H2: 償還終了
A3: 在外研修 | B3: 全府省等研修 | C3: 人事院 | D3: 行政官長期在外研究員制度 | E3: 原則２年 | F3: 15 | G3: 0 | H3: 0
C4: 文部科学省 | D4: 宇宙関係在外研究員派遣制度 | E4: １年 | F4: 0 | G4: 0 | H4: 0
C5: 文部科学省 | D5: 原子力関係在外研究員派遣制度 | E5: １年 | F5: 0 | G5: 0 | H5: 0
B6: 自府省等研修 | C6: 会計検査院 | D6: 海外大学院等派遣研修 | E6: 原則17か月 | F6: 0 | G6: 0 | H6: 0
C7: 警察庁 | D7: 海外調査研究 | E7: １年 | F7: 0 | G7: 0 | H7: 0
C8: 警察庁 | D8: 情報通信職員海外研究機関（修士課程履修コース）派遣制度 | E8: ３年以内 | F8: 0 | G8: 0 | H8: 0
C9: 金融庁 | D9: 在外研究員制度 | E9: １年 | F9: 0 | G9: 0 | H9: 0
C10: 法務省 | D10: 検事在外研究員（米国大学院コース）派遣制度 | E10: 原則１年 | F10: 0 | G10: 0 | H10: 0
C11: 財務省 | D11: 在外研究員制度 | E11: １年又は２年 | F11: 0 | G11: 0 | H11: 0
C12: 国税庁 | D12: 在外研究員制度 | E12: 原則1年 | F12: 0 | G12: 0 | H12: 0
C13: 経済産業省 | D13: 海外調査研究員制度 | E13: 原則1年 | F13: 0 | G13: 0 | H13: 0
C14: 特許庁 | D14: 外国大学院課程履修研修 | E14: １年又は２年 | F14: 0 | G14: 0 | H14: 0
C15: 海上保安庁 | D15: 在外大学院派遣制度 | E15: 期間の定めなし | F15: 0 | G15: 0 | H15: 0
C16: 原子力規制庁 | D16: 原子力規制委員会職員長期在外研究員制度 | E16: ２年又は３年 | F16: 0 | G16: 0 | H16: 0
C17: 外務省 | D17: 在外研修 | E17: ２年又は３年 | F17: 84 | G17: 13 | H17: 11
C18: 防衛省 | D18: 国外一般大学留学（修士課程） | E18: １年又は２年 | F18: 11 | G18: 0 | H18: 0
... C21: 国立印刷局 | D21: 長期海外派遣研修 | E21: 原則２年 | F21: 0 | G21: 0 | H21: 0
B22: 在外計 | F22: 112 | G22: 14 | H22: 12
A23: 国内研修 | B23: 全府省等研修 | C23: 人事院 | D23: 行政官国内研究員制度（修士課程コース） | E23: ２年以内 | F23: 0 | G23: 0 | H23: 0
C24: 人事院 | D24: 行政官国内研究員制度（博士課程コース） | E24: ３年以内 | F24: 0 | G24: 0 | H24: 0
B25: 自府省等研修 | C25: 会計検査院 | D25: 会計専門職大学院派遣研修 | E25: 原則２年 | F25: 0 | G25: 0 | H25: 0
C26: 会計検査院 | D26: 会計検査院公共政策大学院（国際プログラム）派遣研修 | E26: 原則２年 | F26: 0 | G26: 0 | H26: 0
C27: 警察庁 | D27: 情報通信職員国内大学院派遣制度 | E27: ２年 | F27: 0 | G27: 0 | H27: 0
C28: 金融庁 | D28: 国内大学院派遣制度 | E28: ２年 | F28: 0 | G28: 0 | H28: 0
C29: 財務省 | D29: 経済学等専門研修制度 | E29: １年又は２年（修士） ５年（博士） | F29: 0 | G29: 0 | H29: 0
C30: 財務省 | D30: 税関研修所大学委託研修制度 | E30: １年又は３年以内 | F30: 0 | G30: 0 | H30: 0
C31: 財務省 | D31: 財務局経済学等研究員派遣制度 | E31: ２年 | F31: 0 | G31: 0 | H31: 0
C32: 国税庁 | D32: 税務大学校研究科博士前期課程受講コース | E32: 原則15か月 | F32: 0 | G32: 0 | H32: 0
C33: 文部科学省 | D33: 放射線対策行政官国内研究員(専門職大学院コース）制度 | E33: １年
C34: 文部科学省 | D34: 国内大学院派遣制度 | E34: ２年以内 | F34: 0 | G34: 0 | H34: 0
C35: 文化庁 | D35: 文化政策関係行政官国内研究員派遣制度 | E35: ２年 | F35: 0 | G35: 0 | H35: 0
C36: 農林水産省 | D36: 検査・監察部国内会計専門職大学院派遣制度 | E36: ２年以内 | F36: 0 | G36: 0 | H36: 0
C37: 農林水産省 | D37: 国内大学院（事業構想修士）派遣制度 | E37: ２年以内 | F37: 0 | G37: 0 | H37: 0
C38: 経済産業省 | D38: 国内大学院経済等研修 | E38: ２年以内 | F38: 0 | G38: 0 | H38: 0
C39: 特許庁 | D39: 国内大学院課程履修研修 | E39: 原則１年 | F39: 0 | G39: 0 | H39: 0
C40: 国土交通省 | D40: 国内政策研究員派遣制度 | E40: ２年 | F40: 0 | G40: 0 | H40: 0
C41: 海上保安庁 | D41: 国内大学院派遣制度 | E41: 期間の定めなし | F41: 0 | G41: 0 | H41: 0
C42: 原子力規制庁 | D42: 原子力規制委員会原子力規制行政官国内研究員制度 | E42: ２年以内 | F42: 0 | G42: 0 | H42: 0
...

Sheet 人事院
A1: 調査票１集計 | C1: 令和６年度における留学費用償還状況（人事院分）
A2: 研修の類型 | C2: 実施機関 | D2: 研修の名称 | E2: 留学期間 | F2: 留学開始者数 | G2: 要償還件数 | H2: 償還終了
A3: 在外研修 | B3: 全府省等研修 | C3: 人事院 | D3: 行政官長期在外研究員制度 | E3: 原則２年 | F3: 132 | G3: 37 | H3: 26
C4: 文部科学省 | D4: 宇宙関係在外研究員派遣制度 | E4: １年 | F4: 0 | G4: 0 | H4: 0
C5: 文部科学省 | D5: 原子力関係在外研究員派遣制度 | E5: １年 | F5: 0 | G5: 0 | H5: 0
B6: 自府省等研修 | C6: 会計検査院 | D6: 海外大学院等派遣研修 | E6: 原則17か月 | F6: 0 | G6: 2 | H6: 2
C7: 警察庁 | D7: 海外調査研究 | E7: １年 | F7: 0 | G7: 0 | H7: 0
C8: 警察庁 | D8: 情報通信職員海外研究機関（修士課程履修コース）派遣制度 | E8: ３年以内 | F8: 0 | G8: 0 | H8: 0
C9: 金融庁 | D9: 在外研究員制度 | E9: １年 | F9: 5 | G9: 2 | H9: 2
C10: 法務省 | D10: 検事在外研究員（米国大学院コース）派遣制度 | E10: 原則１年 | F10: 0 | G10: 0 | H10: 0
C11: 財務省 | D11: 在外研究員制度 | E11: １年又は２年 | F11: 5 | G11: 0 | H11: 0
C12: 国税庁 | D12: 在外研究員制度 | E12: 原則1年 | F12: 4 | G12: 0 | H12: 0
C13: 経済産業省 | D13: 海外調査研究員制度 | E13: 原則1年 | F13: 11 | G13: 0 | H13: 0
C14: 特許庁 | D14: 外国大学院課程履修研修 | E14: １年又は２年 | F14: 4 | G14: 0 | H14: 0
C15: 海上保安庁 | D15: 在外大学院派遣制度 | E15: 期間の定めなし | F15: 0 | G15: 0 | H15: 0
C16: 原子力規制庁 | D16: 原子力規制委員会職員長期在外研究員制度 | E16: ２年又は３年 | F16: 0 | G16: 0 | H16: 0
C17: 外務省 | D17: 在外研修 | E17: ２年又は３年 | F17: 0 | G17: 0 | H17: 0
C18: 防衛省 | D18: 国外一般大学留学（修士課程） | E18: １年又は２年 | F18: 0 | G18: 0 | H18: 0
... C21: 国立印刷局 | D21: 長期海外派遣研修 | E21: 原則２年 | F21: 0 | G21: 0 | H21: 0
B22: 在外計 | F22: =SUM(F3:F21) -> 161 | G22: =SUM(G3:G21) -> 41 | H22: =SUM(H3:H21) -> 30
A23: 国内研修 | B23: 全府省等研修 | C23: 人事院 | D23: 行政官国内研究員制度（修士課程コース） | E23: ２年以内 | F23: 13 | G23: 0 | H23: 0
C24: 人事院 | D24: 行政官国内研究員制度（博士課程コース） | E24: ３年以内 | F24: 5 | G24: 0 | H24: 0
B25: 自府省等研修 | C25: 会計検査院 | D25: 会計専門職大学院派遣研修 | E25: 原則２年 | F25: 1 | G25: 0 | H25: 0
C26: 会計検査院 | D26: 会計検査院公共政策大学院（国際プログラム）派遣研修 | E26: 原則２年 | F26: 1 | G26: 0 | H26: 0
C27: 警察庁 | D27: 情報通信職員国内大学院派遣制度 | E27: ２年 | F27: 1 | G27: 0 | H27: 0
C28: 金融庁 | D28: 国内大学院派遣制度 | E28: ２年 | F28: 5 | G28: 1 | H28: 1
C29: 財務省 | D29: 経済学等専門研修制度 | E29: １年又は２年（修士） ５年（博士） | F29: 3 | G29: 1 | H29: 1
C30: 財務省 | D30: 税関研修所大学委託研修制度 | E30: １年又は３年以内 | F30: 2 | G30: 0 | H30: 0
C31: 財務省 | D31: 財務局経済学等研究員派遣制度 | E31: ２年 | F31: 2 | G31: 2 | H31: 2
C32: 国税庁 | D32: 税務大学校研究科博士前期課程受講コース | E32: 原則15か月 | F32: 14 | G32: 1 | H32: 0
C33: 文部科学省 | D33: 放射線対策行政官国内研究員(専門職大学院コース）制度 | E33: １年
C34: 文部科学省 | D34: 国内大学院派遣制度 | E34: ２年以内 | F34: 1 | G34: 1 | H34: 1
C35: 文化庁 | D35: 文化政策関係行政官国内研究員派遣制度 | E35: ２年 | F35: 0 | G35: 0 | H35: 0
C36: 農林水産省 | D36: 検査・監察部国内会計専門職大学院派遣制度 | E36: ２年以内 | F36: 1 | G36: 0 | H36: 0
C37: 農林水産省 | D37: 国内大学院派遣制度 | E37: ２年以内 | F37: 2 | G37: 0 | H37: 0
C38: 経済産業省 | D38: 国内大学院経済等研修 | E38: ２年以内 | F38: 1 | G38: 0 | H38: 0
C39: 特許庁 | D39: 国内大学院課程履修研修 | E39: 原則１年 | F39: 0 | G39: 0 | H39: 0
C40: 国土交通省 | D40: 国内政策研究員派遣制度 | E40: ２年 | F40: 0 | G40: 0 | H40: 0
C41: 海上保安庁 | D41: 国内大学院派遣制度 | E41: 期間の定めなし | F41: 1 | G41: 0 | H41: 0
C42: 原子力規制庁 | D42: 原子力規制委員会原子力規制行政官国内研究員制度 | E42: ２年以内 | F42: 0 | G42: 0 | H42: 0
...

Sheet 合計
A1: 調査票１集計 | C1: 令和６年度における留学費用償還状況
A2: 研修の類型 | C2: 実施機関 | D2: 研修の名称 | E2: 留学期間 | F2: 留学開始者数 | G2: 要償還件数 | H2: 償還終了
A3: 在外研修 | B3: 全府省等研修 | C3: 人事院 | D3: 行政官長期在外研究員制度 | E3: 原則２年 | F3: =内閣人事局!F3+人事院!F3 -> 147 | G3: =内閣人事局!G3+人事院!G3 -> 37 | H3: =内閣人事局!H3+人事院!H3 -> 26
C4: 文部科学省 | D4: 宇宙関係在外研究員派遣制度 | E4: １年 | F4: =内閣人事局!F4+人事院!F4 -> 0 | G4: =内閣人事局!G4+人事院!G4 -> 0 | H4: =内閣人事局!H4+人事院!H4 -> 0
C5: 文部科学省 | D5: 原子力関係在外研究員派遣制度 | E5: １年 | F5: =内閣人事局!F5+人事院!F5 -> 0 | G5: =内閣人事局!G5+人事院!G5 -> 0 | H5: =内閣人事局!H5+人事院!H5 -> 0
B6: 自府省等研修 | C6: 会計検査院 | D6: 海外大学院等派遣研修 | E6: 原則17か月 | F6: =内閣人事局!F6+人事院!F6 -> 0 | G6: =内閣人事局!G6+人事院!G6 -> 2 | H6: =内閣人事局!H6+人事院!H6 -> 2
C7: 警察庁 | D7: 海外調査研究 | E7: １年 | F7: =内閣人事局!F7+人事院!F7 -> 0 | G7: =内閣人事局!G7+人事院!G7 -> 0 | H7: =内閣人事局!H7+人事院!H7 -> 0
C8: 警察庁 | D8: 情報通信職員海外研究機関（修士課程履修コース）派遣制度 | E8: ３年以内 | F8: =内閣人事局!F8+人事院!F8 -> 0 | G8: =内閣人事局!G8+人事院!G8 -> 0 | H8: =内閣人事局!H8+人事院!H8 -> 0
C9: 金融庁 | D9: 在外研究員制度 | E9: １年 | F9: =内閣人事局!F9+人事院!F9 -> 5 | G9: =内閣人事局!G9+人事院!G9 -> 2 | H9: =内閣人事局!H9+人事院!H9 -> 2
C10: 法務省 | D10: 検事在外研究員（米国大学院コース）派遣制度 | E10: 原則１年 | F10: =内閣人事局!F10+人事院!F10 -> 0 | G10: =内閣人事局!G10+人事院!G10 -> 0 | H10: =内閣人事局!H10+人事院!H10 -> 0
C11: 財務省 | D11: 在外研究員制度 | E11: １年又は２年 | F11: =内閣人事局!F11+人事院!F11 -> 5 | G11: =内閣人事局!G11+人事院!G11 -> 0 | H11: =内閣人事局!H11+人事院!H11 -> 0
C12: 国税庁 | D12: 在外研究員制度 | E12: 原則1年 | F12: =内閣人事局!F12+人事院!F12 -> 4 | G12: =内閣人事局!G12+人事院!G12 -> 0 | H12: =内閣人事局!H12+人事院!H12 -> 0
C13: 経済産業省 | D13: 海外調査研究員制度 | E13: 原則1年 | F13: =内閣人事局!F13+人事院!F13 -> 11 | G13: =内閣人事局!G13+人事院!G13 -> 0 | H13: =内閣人事局!H13+人事院!H13 -> 0
C14: 特許庁 | D14: 外国大学院課程履修研修 | E14: １年又は２年 | F14: =内閣人事局!F14+人事院!F14 -> 4 | G14: =内閣人事局!G14+人事院!G14 -> 0 | H14: =内閣人事局!H14+人事院!H14 -> 0
C15: 海上保安庁 | D15: 在外大学院派遣制度 | E15: 期間の定めなし | F15: =内閣人事局!F15+人事院!F15 -> 0 | G15: =内閣人事局!G15+人事院!G15 -> 0 | H15: =内閣人事局!H15+人事院!H15 -> 0
C16: 原子力規制庁 | D16: 原子力規制委員会職員長期在外研究員制度 | E16: ２年又は３年 | F16: =内閣人事局!F16+人事院!F16 -> 0 | G16: =内閣人事局!G16+人事院!G16 -> 0 | H16: =内閣人事局!H16+人事院!H16 -> 0
C17: 外務省 | D17: 在外研修 | E17: ２年又は３年 | F17: =内閣人事局!F17+人事院!F17 -> 84 | G17: =内閣人事局!G17+人事院!G17 -> 13 | H17: =内閣人事局!H17+人事院!H17 -> 11
C18: 防衛省 | D18: 国外一般大学留学（修士課程） | E18: １年又は２年 | F18: =内閣人事局!F18+人事院!F18 -> 11 | G18: =内閣人事局!G18+人事院!G18 -> 0 | H18: =内閣人事局!H18+人事院!H18 -> 0
... C21: 国立印刷局 | D21: 長期海外派遣研修 | E21: 原則２年 | F21: =内閣人事局!F21+人事院!F21 -> 0 | G21: =内閣人事局!G21+人事院!G21 -> 0 | H21: =内閣人事局!H21+人事院!H21 -> 0
B22: 在外計 | F22: =SUM(F3:F21) -> 273 | G22: =SUM(G3:G21) -> 55 | H22: =SUM(H3:H21) -> 42
A23: 国内研修 | B23: 全府省等研修 | C23: 人事院 | D23: 行政官国内研究員制度（修士課程コース） | E23: ２年以内 | F23: =内閣人事局!F23+人事院!F23 -> 13 | G23: =内閣人事局!G23+人事院!G23 -> 0 | H23: =内閣人事局!H23+人事院!H23 -> 0
C24: 人事院 | D24: 行政官国内研究員制度（博士課程コース） | E24: ３年以内 | F24: =内閣人事局!F24+人事院!F24 -> 5 | G24: =内閣人事局!G24+人事院!G24 -> 0 | H24: =内閣人事局!H24+人事院!H24 -> 0
B25: 自府省等研修 | C25: 会計検査院 | D25: 会計専門職大学院派遣研修 | E25: 原則２年 | F25: =内閣人事局!F25+人事院!F25 -> 1 | G25: =内閣人事局!G25+人事院!G25 -> 0 | H25: =内閣人事局!H25+人事院!H25 -> 0
C26: 会計検査院 | D26: 会計検査院公共政策大学院（国際プログラム）派遣研修 | E26: 原則２年 | F26: =内閣人事局!F26+人事院!F26 -> 1 | G26: =内閣人事局!G26+人事院!G26 -> 0 | H26: =内閣人事局!H26+人事院!H26 -> 0
C27: 警察庁 | D27: 情報通信職員国内大学院派遣制度 | E27: ２年 | F27: =内閣人事局!F27+人事院!F27 -> 1 | G27: =内閣人事局!G27+人事院!G27 -> 0 | H27: =内閣人事局!H27+人事院!H27 -> 0
C28: 金融庁 | D28: 国内大学院派遣制度 | E28: ２年 | F28: =内閣人事局!F28+人事院!F28 -> 5 | G28: =内閣人事局!G28+人事院!G28 -> 1 | H28: =内閣人事局!H28+人事院!H28 -> 1
C29: 財務省 | D29: 経済学等専門研修制度 | E29: １年又は２年（修士） ５年（博士） | F29: =内閣人事局!F29+人事院!F29 -> 3 | G29: =内閣人事局!G29+人事院!G29 -> 1 | H29: =内閣人事局!H29+人事院!H29 -> 1
C30: 財務省 | D30: 税関研修所大学委託研修制度 | E30: １年又は３年以内 | F30: =内閣人事局!F30+人事院!F30 -> 2 | G30: =内閣人事局!G30+人事院!G30 -> 0 | H30: =内閣人事局!H30+人事院!H30 -> 0
C31: 財務省 | D31: 財務局経済学等研究員派遣制度 | E31: ２年 | F31: =内閣人事局!F31+人事院!F31 -> 2 | G31: =内閣人事局!G31+人事院!G31 -> 2 | H31: =内閣人事局!H31+人事院!H31 -> 2
C32: 国税庁 | D32: 税務大学校研究科博士前期課程受講コース | E32: 原則15か月 | F32: =内閣人事局!F32+人事院!F32 -> 14 | G32: =内閣人事局!G32+人事院!G32 -> 1 | H32: =内閣人事局!H32+人事院!H32 -> 0
C33: 文部科学省 | D33: 放射線対策行政官国内研究員(専門職大学院コース）制度 | E33: １年 | F33: =内閣人事局!F33+人事院!F33 -> 0 | G33: =内閣人事局!G33+人事院!G33 -> 0 | H33: =内閣人事局!H33+人事院!H33 -> 0
C34: 文部科学省 | D34: 国内大学院派遣制度 | E34: ２年以内 | F34: =内閣人事局!F34+人事院!F34 -> 1 | G34: =内閣人事局!G34+人事院!G34 -> 1 | H34: =内閣人事局!H34+人事院!H34 -> 1
C35: 文化庁 | D35: 文化政策関係行政官国内研究員派遣制度 | E35: ２年 | F35: =内閣人事局!F35+人事院!F35 -> 0 | G35: =内閣人事局!G35+人事院!G35 -> 0 | H35: =内閣人事局!H35+人事院!H35 -> 0
C36: 農林水産省 | D36: 検査・監察部国内会計専門職大学院派遣制度 | E36: ２年以内 | F36: =内閣人事局!F36+人事院!F36 -> 1 | G36: =内閣人事局!G36+人事院!G36 -> 0 | H36: =内閣人事局!H36+人事院!H36 -> 0
C37: 農林水産省 | D37: 国内大学院派遣制度 | E37: ２年以内 | F37: =内閣人事局!F37+人事院!F37 -> 2 | G37: =内閣人事局!G37+人事院!G37 -> 0 | H37: =内閣人事局!H37+人事院!H37 -> 0
... C51: 製品評価技術 基盤機構 | D51: 長期派遣研修制度 | E51: 原則６か月以上２年以内 | F51: =内閣人事局!F51+人事院!F51 -> 0 | G51: =内閣人事局!G51+人事院!G51 -> 0 | H51: =内閣人事局!H51+人事院!H51 -> 0
B52: 国内計 | F52: =SUM(F23:F51) -> 177 | G52: =SUM(G23:G51) -> 41 | H52: =SUM(H23:H51) -> 39
A53: 合計（在外及び国内） | F53: =SUM(F22,F52) -> 450 | G53: =SUM(G22,G52) -> 96

Sheet 留学開始推移
L1: 【参考１】
A2: 研修ごとの年度別留学開始状況
L3: （件）
A4: 研 修 の 名 称 | H4: 留 学 期 間 | I4: 当該年度に留学を開始した件数 | L4: 総 数
I5: 平成18年度 （平成18年６月19日以降） ～ 令和5年度 | J5: 令和６年度 | K5: 令和７年度
A6: 在 外 | D6: 全府省 等研修 | E6: 人事院 | F6: 行政官長期在外研究員制度 | H6: 原則２年 | I6: 2483 | J6: 147 | K6: 138 | L6: =SUM(I6:K6) -> 2768
E7: 文部科学省 | F7: 宇宙関係在外研究員派遣制度 | H7: １年 | I7: 2 | J7: 0 | K7: 0 | L7: =SUM(I7:K7) -> 2
E8: 文部科学省 | F8: 原子力関係在外研究員派遣制度 | H8: １年 | I8: 4 | J8: 0 | K8: 2 | L8: =SUM(I8:K8) -> 6
D9: 自 府 省 等 研 修 | E9: 会計検査院 | F9: 海外大学院等派遣研修 | H9: 原則17か月 | I9: 16 | J9: 0 | K9: 0 | L9: =SUM(I9:K9) -> 16
E10: 警察庁 | F10: 海外調査研究 | H10: １年 | I10: 26 | J10: 0 | K10: 0 | L10: =SUM(I10:K10) -> 26
E11: 警察庁 | F11: 情報通信職員海外研究機関（修士課程履修コース）派遣制度 | H11: ３年以内 | J11: 0 | K11: 0 | L11: =SUM(I11:K11) -> 0
E12: 金融庁 | F12: 在外研究員制度 | H12: １年 | I12: 72 | J12: 5 | K12: 6 | L12: =SUM(I12:K12) -> 83
E13: 法務省 | F13: 検事在外研究員（米国大学院コース）派遣制度 | H13: 原則１年 | I13: 2 | J13: 0 | K13: 0 | L13: =SUM(I13:K13) -> 2
E14: 財務省 | F14: 在外研究員制度 | H14: １年又は２年 | I14: 120 | J14: 5 | K14: 6 | L14: =SUM(I14:K14) -> 131
E15: 国税庁 | F15: 在外研究員制度 | H15: 原則1年 | I15: 65 | J15: 4 | K15: 3 | L15: =SUM(I15:K15) -> 72
E16: 経済産業省 | F16: 海外調査研究員制度 | H16: 原則1年 | I16: 42 | J16: 11 | K16: 2 | L16: =SUM(I16:K16) -> 55
E17: 特許庁 | F17: 外国大学院課程履修研修 | H17: 原則１年又は２年 | I17: 73 | J17: 4 | K17: 10 | L17: =SUM(I17:K17) -> 87
E18: 海上保安庁 | F18: 在外大学院派遣制度 | H18: 期間の定めなし | I18: 1 | J18: 0 | K18: 0 | L18: =SUM(I18:K18) -> 1
E19: 原子力規制庁 | F19: 原子力規制委員会職員長期在外研究員制度 | H19: ２年又は３年 | I19: 6 | J19: 0 | K19: 0 | L19: =SUM(I19:K19) -> 6
E20: 外務省 | F20: 在外研修 | H20: ２年又は３年 | I20: 1255 | J20: 84 | K20: 86 | L20: =SUM(I20:K20) -> 1425
E21: 防衛省 | F21: 国外一般大学留学 | G21: （修士課程） | H21: １年又は２年 | I21: 203 | J21: 11 | K21: 12 | L21: =SUM(I21:K21) -> 226
E22: 防衛省 | G22: （博士課程） | H22: 原則３年 | I22: 30 | J22: 1 | K22: 1 | L22: =SUM(I22:K22) -> 32
E23: 裁判所 | F23: 判事補海外留学研究員制度 | H23: １年 | I23: 17 | J23: 1 | K23: 1 | L23: =SUM(I23:K23) -> 19
E24: 国立印刷局 | F24: 長期海外派遣研修 | H24: 原則２年 | I24: 4 | J24: 0 | K24: 0 | L24: =SUM(I24:K24) -> 4
D25: 小 計 | I25: 4421 | J25: 273 | K25: =SUM(K6:K24) -> 267 | L25: =SUM(L6:L24) -> 4961
A26: 国 内 | D26: 全府省等研修 | E26: 人事院 | F26: 行政官国内研究員制度 | G26: （修士課程コース） | H26: ２年以内 | I26: 252 | J26: 13 | K26: 18 | L26: =SUM(I26:K26) -> 283
G27: （博士課程コース） | H27: ３年以内 | I27: 51 | J27: 5 | K27: 9 | L27: =SUM(I27:K27) -> 65
D28: 自 府 省 等 研 修 | E28: 会計検査院 | F28: 会計専門職大学院派遣研修 | H28: 原則２年 | I28: 26 | J28: 1 | K28: 1 | L28: =SUM(I28:K28) -> 28
F29: 公共政策大学院（国際プログラム）派遣研修 | H29: 原則２年 | I29: 3 | J29: 1 | K29: 0 | L29: =SUM(I29:K29) -> 4
E30: 警察庁 | F30: 情報通信職員国内大学院派遣制度 | H30: ２年 | I30: 6 | J30: 1 | K30: 0 | L30: =SUM(I30:K30) -> 7
E31: 金融庁 | F31: 国内大学院派遣制度 | H31: ２年 | I31: 67 | J31: 5 | K31: 4 | L31: =SUM(I31:K31) -> 76
E32: 財 務 省 | F32: 経済学等専門研修制度 | H32: １年又は２年（修士） ５年（博士） | I32: 46 | J32: 3 | K32: 2 | L32: =SUM(I32:K32) -> 51
F33: 税関研修所大学委託研修制度 | H33: ３年以内 | I33: 105 | J33: 2 | K33: 4 | L33: =SUM(I33:K33) -> 111
F34: 財務局経済学等研究員派遣制度 | H34: ２年 | I34: 21 | J34: 2 | K34: 2 | L34: =SUM(I34:K34) -> 25
E35: 国税庁 | F35: 税務大学校研究科博士前期課程受講コース | H35: 原則15か月 | I35: 154 | J35: 14 | K35: 13 | L35: =SUM(I35:K35) -> 181
E36: 文部科学省 | F36: 放射線対策行政官国内研究員(専門職大学院コース)制度 | H36: １年 | I36: 8 | L36: =SUM(I36:K36) -> 8
F37: 国内大学院派遣制度 | H37: ２年以内 | I37: 3 | J37: 1 | K37: 1 | L37: =SUM(I37:K37) -> 5
E38: 文化庁 | F38: 文化政策関係行政官国内研究員派遣制度 | H38: ２年 | I38: 2 | J38: 0 | K38: 0 | L38: =SUM(I38:K38) -> 2
E39: 農林水産省 | F39: 検査・監察部国内会計専門職大学院派遣制度 | H39: ２年以内 | I39: 6 | J39: 1 | K39: 0 | L39: =SUM(I39:K39) -> 7
F40: 国内大学院(事業構想修士)派遣制度 | H40: ２年以内 | I40: 3 | J40: 2 | K40: 2 | L40: =SUM(I40:K40) -> 7
...

Sheet 離職時期別
A1: 離職時期別
C2: 留学期間中離職者 | E2: 留学後５年以内離職者 | G2: 償還義務発生者
D3: 内、完済者 | F3: 内、完済者 | H3: 内、完済者
B4: 内人局 | C4: 1 | D4: 1 | E4: 48 | F4: 45 | G4: =C4+E4 -> 49 | H4: =D4+F4 -> 46
B5: 人事院 | C5: 2 | D5: 2 | E5: 45 | F5: 33 | G5: =C5+E5 -> 47 | H5: =D5+F5 -> 35
B6: 計 | C6: =SUM(C4:C5) -> 3 | D6: =SUM(D4:D5) -> 3 | E6: =SUM(E4:E5) -> 93 | F6: =SUM(F4:F5) -> 78 | G6: =SUM(G4:G5) -> 96 | H6: =SUM(H4:H5) -> 81
