1.0000000000
0.0000000000
0.0000000000
-1.0000000000
14555023.9211760540
3950740.4911453500
